BEGIN:VCALENDAR
VERSION:2.0
PRODID:-//La Boutique du livre de Neuchâtel - ECPv6.15.18//NONSGML v1.0//EN
CALSCALE:GREGORIAN
METHOD:PUBLISH
X-ORIGINAL-URL:https://www.boutiquedulivre.ch
X-WR-CALDESC:Évènements pour La Boutique du livre de Neuchâtel
REFRESH-INTERVAL;VALUE=DURATION:PT1H
X-Robots-Tag:noindex
X-PUBLISHED-TTL:PT1H
BEGIN:VTIMEZONE
TZID:Europe/Paris
BEGIN:DAYLIGHT
TZOFFSETFROM:+0100
TZOFFSETTO:+0200
TZNAME:CEST
DTSTART:20230326T010000
END:DAYLIGHT
BEGIN:STANDARD
TZOFFSETFROM:+0200
TZOFFSETTO:+0100
TZNAME:CET
DTSTART:20231029T010000
END:STANDARD
BEGIN:DAYLIGHT
TZOFFSETFROM:+0100
TZOFFSETTO:+0200
TZNAME:CEST
DTSTART:20240331T010000
END:DAYLIGHT
BEGIN:STANDARD
TZOFFSETFROM:+0200
TZOFFSETTO:+0100
TZNAME:CET
DTSTART:20241027T010000
END:STANDARD
BEGIN:DAYLIGHT
TZOFFSETFROM:+0100
TZOFFSETTO:+0200
TZNAME:CEST
DTSTART:20250330T010000
END:DAYLIGHT
BEGIN:STANDARD
TZOFFSETFROM:+0200
TZOFFSETTO:+0100
TZNAME:CET
DTSTART:20251026T010000
END:STANDARD
END:VTIMEZONE
BEGIN:VEVENT
DTSTART;TZID=Europe/Paris:20240824T110000
DTEND;TZID=Europe/Paris:20240824T130000
DTSTAMP:20260421T180607
CREATED:20240820T073244Z
LAST-MODIFIED:20241003T194622Z
UID:691-1724497200-1724504400@www.boutiquedulivre.ch
SUMMARY:Vernissage de "Si les forêts nous quittent"
DESCRIPTION:Rejoignez-nous le samedi 24 août de 11h à 13h pour le vernissage de Si les forêts nous quittent édité par Hélice Hélas. Francesco Micieli\, l’auteur\, et Christian Viredaz\, son traducteur\, seront présents pour échanger avec vous autour de cet ouvrage. Cet événement se déroule dans le cadre de la journée découverte du quartier de la Commune libre de Neuchâtel\, une occasion parfaite pour explorer et soutenir les artisan·e·s et commerçant·e·s local·e·s. Venez nombreux·ses !  \n\n\n\n\n\n\n\nPetit roman polyphonique donnant à entendre\, de manière poétique\, inventive et intrigante\, différentes voix s’activant pour penser et agir les urgences climatiques. Une construction narrative singulière et habile\, émaillée de citations allant de Lou Reed à Marina Tsvetaïeva en passant par Walter Benjamin. \n\n\n\n \n\n\n\nLors d’un été de canicule\, des jeunes désœuvrés se retrouvent autour de l’arbre ombrageant de la terrasse d’un café. L’angoisse climatique\, les extinctions de masse\, l’inaction des politiques\, les migrations forcées\, toutes ces préoccupations minent leurs perspectives d’avenir. Avec l’arrivée mystérieuse de Ginkgo dans le groupe\, prophétesse malgré elle d’un sursaut révolutionnaire\, celui-ci se resserre et se solidarise autour d’un idéal de communion avec le Vivant\, d’amour et de rébellion. Pourtant\, juste après une action militante­­\, Ginkgo ne donne plus signe de vie\, laissant le groupe désemparé ; sa disparition subite préfigurant celle des biotopes\, de l’Humanité\, ainsi que des idéaux et des espoirs d’alternatives. \n\n\n\n \n\n\n\nDans ce roman polyphonique\, Francesco Micieli donne la parole aux activistes du Climat\, à la jeunesse. Sous la forme de dépositions de police\, chacun raconte sa version des faits\, la formation du groupe\, ce qui les a animé\, ainsi que leur fascination pour Ginkgo\, tout autant que le désarroi qui s’est suivi avec la dissolution du collectif. Rédigé à la suite d’ateliers d’écriture réunissant des jeunes réfugié·es et étudiant·es\, Si les forêts nous quittent est une plongée poétique dans l’urgence écologique. Un roman chargé d’une aura et d’une présence\, interrogeant avec subtilité tant l’engagement militant que la solastagie (nb. la détresse émotionnelle causée par la destruction des biotopes) dans ses dimensions les plus sous-cutanées\, sensibles\, voire mystiques.  \n\n\n\nLe roman de la génération climatique. 
URL:https://www.boutiquedulivre.ch/evenement/vernissage-de-si-les-forets-nous-quittent/
LOCATION:Boutique du Livre\, Rue des Chavannes 4\, Neuchâtel\, 2000\, Suisse
CATEGORIES:Vernissage
ATTACH;FMTTYPE=image/png:https://www.boutiquedulivre.ch/wp-content/uploads/2024/08/ForetsHeliceHelas.png
END:VEVENT
END:VCALENDAR