BEGIN:VCALENDAR
VERSION:2.0
PRODID:-//La Boutique du livre de Neuchâtel - ECPv6.15.18//NONSGML v1.0//EN
CALSCALE:GREGORIAN
METHOD:PUBLISH
X-WR-CALNAME:La Boutique du livre de Neuchâtel
X-ORIGINAL-URL:https://www.boutiquedulivre.ch
X-WR-CALDESC:Évènements pour La Boutique du livre de Neuchâtel
REFRESH-INTERVAL;VALUE=DURATION:PT1H
X-Robots-Tag:noindex
X-PUBLISHED-TTL:PT1H
BEGIN:VTIMEZONE
TZID:Europe/Paris
BEGIN:DAYLIGHT
TZOFFSETFROM:+0100
TZOFFSETTO:+0200
TZNAME:CEST
DTSTART:20230326T010000
END:DAYLIGHT
BEGIN:STANDARD
TZOFFSETFROM:+0200
TZOFFSETTO:+0100
TZNAME:CET
DTSTART:20231029T010000
END:STANDARD
BEGIN:DAYLIGHT
TZOFFSETFROM:+0100
TZOFFSETTO:+0200
TZNAME:CEST
DTSTART:20240331T010000
END:DAYLIGHT
BEGIN:STANDARD
TZOFFSETFROM:+0200
TZOFFSETTO:+0100
TZNAME:CET
DTSTART:20241027T010000
END:STANDARD
BEGIN:DAYLIGHT
TZOFFSETFROM:+0100
TZOFFSETTO:+0200
TZNAME:CEST
DTSTART:20250330T010000
END:DAYLIGHT
BEGIN:STANDARD
TZOFFSETFROM:+0200
TZOFFSETTO:+0100
TZNAME:CET
DTSTART:20251026T010000
END:STANDARD
END:VTIMEZONE
BEGIN:VEVENT
DTSTART;TZID=Europe/Paris:20240912T183000
DTEND;TZID=Europe/Paris:20240912T210000
DTSTAMP:20260421T164419
CREATED:20240918T145325Z
LAST-MODIFIED:20241003T194558Z
UID:730-1726165800-1726174800@www.boutiquedulivre.ch
SUMMARY:Vernissage de "Pied à terre" aux éditions Antipodes
DESCRIPTION:Chaque jour\, des hommes\, des femmes et des enfants se noient aux portes de l’Europe.Ils partent en quête d’un ailleurs\, d’une seconde chance…Certains passent par la terre\,D’autres choisissent la mer. \n\n\n\nFévrier 2023\, MarieMo embarque à bord de l’Ocean Viking\, le bateau humanitaire de l’association SOS Méditerranée\, pour une mission de vingt-cinq jours. Lors de ce périple\, elle tient un carnet de bord dans lequel elle consigne le quotidien des équipes d’intervention de sauvetage en mer ainsi que la vie à bord du navire. \n\n\n\nIssue de ce carnet de bord\, la bande dessinée Pied à terre évoque les questions liées à la migration\, la traversée de la Méditerranée\, les trajectoires humaines et la vie sur le bateau\, la promiscuité\, l’urgence\, le danger et la solidarité. C’est une oeuvre magnifique et poignante qui nous plonge au plus proche des actions humanitaires effectuées sur ce navire.
URL:https://www.boutiquedulivre.ch/evenement/vernissage-de-pied-a-terre-aux-editions-antipodes/
LOCATION:Boutique du Livre\, Rue des Chavannes 4\, Neuchâtel\, 2000\, Suisse
CATEGORIES:Vernissage
ATTACH;FMTTYPE=image/jpeg:https://www.boutiquedulivre.ch/wp-content/uploads/2024/09/PAT_PROMO_vernissage_carre.jpg
END:VEVENT
END:VCALENDAR