BEGIN:VCALENDAR
VERSION:2.0
PRODID:-//La Boutique du livre de Neuchâtel - ECPv6.15.18//NONSGML v1.0//EN
CALSCALE:GREGORIAN
METHOD:PUBLISH
X-WR-CALNAME:La Boutique du livre de Neuchâtel
X-ORIGINAL-URL:https://www.boutiquedulivre.ch
X-WR-CALDESC:Évènements pour La Boutique du livre de Neuchâtel
REFRESH-INTERVAL;VALUE=DURATION:PT1H
X-Robots-Tag:noindex
X-PUBLISHED-TTL:PT1H
BEGIN:VTIMEZONE
TZID:Europe/Paris
BEGIN:DAYLIGHT
TZOFFSETFROM:+0100
TZOFFSETTO:+0200
TZNAME:CEST
DTSTART:20240331T010000
END:DAYLIGHT
BEGIN:STANDARD
TZOFFSETFROM:+0200
TZOFFSETTO:+0100
TZNAME:CET
DTSTART:20241027T010000
END:STANDARD
BEGIN:DAYLIGHT
TZOFFSETFROM:+0100
TZOFFSETTO:+0200
TZNAME:CEST
DTSTART:20250330T010000
END:DAYLIGHT
BEGIN:STANDARD
TZOFFSETFROM:+0200
TZOFFSETTO:+0100
TZNAME:CET
DTSTART:20251026T010000
END:STANDARD
BEGIN:DAYLIGHT
TZOFFSETFROM:+0100
TZOFFSETTO:+0200
TZNAME:CEST
DTSTART:20260329T010000
END:DAYLIGHT
BEGIN:STANDARD
TZOFFSETFROM:+0200
TZOFFSETTO:+0100
TZNAME:CET
DTSTART:20261025T010000
END:STANDARD
END:VTIMEZONE
BEGIN:VEVENT
DTSTART;TZID=Europe/Paris:20250507T190000
DTEND;TZID=Europe/Paris:20250507T210000
DTSTAMP:20260420T180812
CREATED:20250420T204134Z
LAST-MODIFIED:20250519T131715Z
UID:946-1746644400-1746651600@www.boutiquedulivre.ch
SUMMARY:Le retour de la Mistoufle: le Père Peinard en musique
DESCRIPTION:Un poète plume en main ou pianotant sur un écran qui l’est aussi avec une guitare: Stéphane Blok. Un écrivain venant de publier un « récit insolite » intitulé « Le vrai visage de la pluie »\, aux Editions de la Veilleuse\, qui est aussi un homme de flow\, de mots scandés slammés hip-hopés: Jonathan Dumani\, alias AbSTRAL compost. Les deux donnent à entendre\, de manière très incarnée\, quelques articles du Père Peinard (journal libertaire édité entre 1889 et 1902). Cela décape et détonne. Sans censure\, la maltraitance capitaliste est conspuée dans un mélange d’argot et d’inventions langagières tonitruantes.  \n\n\n\nLa Boutique est flattée de recevoir cette proposition 150% singulière qui s’est déjà déployée sur plusieurs scènes renommées. \n\n\n\nLibrement inspiré des écrits du Père Peinard\,hebdomadaire espatrouillant farouchement libertaire(1889-1902). Un journal turellement rosse farci de riches tartines et d’histoires à se tordre la rate\, totalement indispensable pour se décrasser les boyaux de la tête ! \n\n\n\nPlus d’un siècle s’est écoulé depuis la rédaction des articles du Père Peinard. Il est pourtant troublant de constater à quel point le propos reste d’actualité : les riches ne cessent de s’enrichir\, tout en prenant soin de détruire toutes initiatives solidaires. Il est donc de bon ton\, de la Commune à aujourd’hui\, de rester incisifs et de prendre le parti des exploités\, des marginaux\, des misérables et opprimés\, des innombrables victimes du système capitaliste. Satires à gogo ! Musique à fond ! Gueuler jusqu’au chambardement général\, quand le populo foutra parterre cette saleté de société pourrie ! \n\n\n\nAvant-goût: \n\n\n\n– LP « Tout à l’égout » Humus Records :  https://humus-records.com/product/abstral-et-blok-tout-a-legout-limited-lp/ – AbSTRAL & Blok – Les chiens de mordre : https://www.youtube.com/watch?v=K5p3D1G_StM \n\n\n\n– AbSTRAL & Blok – Plastique : https://www.youtube.com/watch?v=rbF0XGJNGlo
URL:https://www.boutiquedulivre.ch/evenement/abstral-blok-le-pere-peinard-en-musique/
LOCATION:La Boutique du livre\, 4 rue des Chavannes\, Neuchâtel
CATEGORIES:Performance
ATTACH;FMTTYPE=image/jpeg:https://www.boutiquedulivre.ch/wp-content/uploads/2025/04/mistoufle-scaled.jpg
END:VEVENT
END:VCALENDAR