BEGIN:VCALENDAR
VERSION:2.0
PRODID:-//La Boutique du livre de Neuchâtel - ECPv6.15.18//NONSGML v1.0//EN
CALSCALE:GREGORIAN
METHOD:PUBLISH
X-WR-CALNAME:La Boutique du livre de Neuchâtel
X-ORIGINAL-URL:https://www.boutiquedulivre.ch
X-WR-CALDESC:Évènements pour La Boutique du livre de Neuchâtel
REFRESH-INTERVAL;VALUE=DURATION:PT1H
X-Robots-Tag:noindex
X-PUBLISHED-TTL:PT1H
BEGIN:VTIMEZONE
TZID:Europe/Paris
BEGIN:DAYLIGHT
TZOFFSETFROM:+0100
TZOFFSETTO:+0200
TZNAME:CEST
DTSTART:20240331T010000
END:DAYLIGHT
BEGIN:STANDARD
TZOFFSETFROM:+0200
TZOFFSETTO:+0100
TZNAME:CET
DTSTART:20241027T010000
END:STANDARD
BEGIN:DAYLIGHT
TZOFFSETFROM:+0100
TZOFFSETTO:+0200
TZNAME:CEST
DTSTART:20250330T010000
END:DAYLIGHT
BEGIN:STANDARD
TZOFFSETFROM:+0200
TZOFFSETTO:+0100
TZNAME:CET
DTSTART:20251026T010000
END:STANDARD
BEGIN:DAYLIGHT
TZOFFSETFROM:+0100
TZOFFSETTO:+0200
TZNAME:CEST
DTSTART:20260329T010000
END:DAYLIGHT
BEGIN:STANDARD
TZOFFSETFROM:+0200
TZOFFSETTO:+0100
TZNAME:CET
DTSTART:20261025T010000
END:STANDARD
END:VTIMEZONE
BEGIN:VEVENT
DTSTART;TZID=Europe/Paris:20250514T190000
DTEND;TZID=Europe/Paris:20250514T210000
DTSTAMP:20260420T203341
CREATED:20250420T210852Z
LAST-MODIFIED:20250422T084501Z
UID:955-1747249200-1747256400@www.boutiquedulivre.ch
SUMMARY:Le fiancé brigand et autres contes cruels avec David Telese
DESCRIPTION:Il était une fois un meunier qui avait une jolie fille\, en âge d’être mariée. Un beau jour\, un homme élégant qui semblait très riche se présenta à lui. Le meunier le trouva fort bien\, il lui promit sa fille en mariage… Mais la jeune fille ne ressentait aucun penchant pour cet homme. Bien plus\, elle éprouvait dans son cœur\, à chaque fois qu’elle pensait à lui\, un sentiment d’horreur… \n\n\n\nUn conte des frères Grimm\, accompagné d’autres contes qui ne finissent pas toujours bien. \n\n\n\nDurée 1h15\, pour adultes. \n\n\n\n\n\n\n\nDavid Telese \n\n\n\nUn conteur et dessinateur italo-suisse\, né à Lausanne. Il s’est formé aux Beaux-Arts de Genève. Pendant ses études\, il découvre la narration suite à la création d’un théâtre d’ombres. Depuis\, il s’est intéressé et formé à l’art du conte qui entretient un lien intime avec l’image. Dès lors\, en parallèle à son travail de dessin\, l’art du conte est devenu progressivement un engagement et une passion à part entière. Il s’adonne aussi à une technique originaire du Japon dans laquelle le conteur ponctue sa narration avec des planches dessinées: le kamishibaï.
URL:https://www.boutiquedulivre.ch/evenement/le-fiance-brigand-et-autres-contes-cruels-avec-david-telese/
ATTACH;FMTTYPE=image/png:https://www.boutiquedulivre.ch/wp-content/uploads/2025/04/Bildschirmfoto-2025-04-20-um-23.07.56.png
END:VEVENT
END:VCALENDAR