BEGIN:VCALENDAR
VERSION:2.0
PRODID:-//La Boutique du livre de Neuchâtel - ECPv6.15.18//NONSGML v1.0//EN
CALSCALE:GREGORIAN
METHOD:PUBLISH
X-WR-CALNAME:La Boutique du livre de Neuchâtel
X-ORIGINAL-URL:https://www.boutiquedulivre.ch
X-WR-CALDESC:Évènements pour La Boutique du livre de Neuchâtel
REFRESH-INTERVAL;VALUE=DURATION:PT1H
X-Robots-Tag:noindex
X-PUBLISHED-TTL:PT1H
BEGIN:VTIMEZONE
TZID:Europe/Paris
BEGIN:DAYLIGHT
TZOFFSETFROM:+0100
TZOFFSETTO:+0200
TZNAME:CEST
DTSTART:20240331T010000
END:DAYLIGHT
BEGIN:STANDARD
TZOFFSETFROM:+0200
TZOFFSETTO:+0100
TZNAME:CET
DTSTART:20241027T010000
END:STANDARD
BEGIN:DAYLIGHT
TZOFFSETFROM:+0100
TZOFFSETTO:+0200
TZNAME:CEST
DTSTART:20250330T010000
END:DAYLIGHT
BEGIN:STANDARD
TZOFFSETFROM:+0200
TZOFFSETTO:+0100
TZNAME:CET
DTSTART:20251026T010000
END:STANDARD
BEGIN:DAYLIGHT
TZOFFSETFROM:+0100
TZOFFSETTO:+0200
TZNAME:CEST
DTSTART:20260329T010000
END:DAYLIGHT
BEGIN:STANDARD
TZOFFSETFROM:+0200
TZOFFSETTO:+0100
TZNAME:CET
DTSTART:20261025T010000
END:STANDARD
END:VTIMEZONE
BEGIN:VEVENT
DTSTART;TZID=Europe/Paris:20250523T180000
DTEND;TZID=Europe/Paris:20250523T203000
DTSTAMP:20260420T230136
CREATED:20250519T130838Z
LAST-MODIFIED:20250519T131642Z
UID:970-1748023200-1748032200@www.boutiquedulivre.ch
SUMMARY:Double vernissage poétique: La Chose Carrée et La Veilleuse
DESCRIPTION:Pour la première fois en Suisse romande\, des poétesses et des poètes contemporains écrivent des poèmes inédits sur les enchantements\, thème de l’édition 2025 du Printemps de la poésie. Placée sous le signe d’Orphée et partagée par les bardes\, les chamanes\, les ­magiciens et les alchimistes\, la poésie détient historiquement le pouvoir d’enchanter et de charmer. Est-ce toujours le cas ­aujourd’hui ? Quels charmes et quelles puissances invoquons-nous quotidiennement ? Quelles formules poétiques consacrons-nous désormais ? Découvrez dans cette anthologie des talismans ­modernes et indispensables pour conjurer la nuit. \n\n\n\n\n\n\n\nPlus tôt cette année\, le Printemps de la Poésie a offert à La Chose Carrée l’occasion d’animer deux ateliers d’écriture. Les textes des participantes sont mis à l’honneur dans la 32e édition de ce bimestriel intitulé Poétique de la Nuit. L’équipe LCC vous invite donc à la Boutique du Livre pour découvrir ce nouveau numéro\, en tandem avec les éditions La Veilleuse qui viendront y présenter un recueil aux résonances nocturnes. C’est ce 23 mai dès 18 heures. Venez nombreuses et nombreux pour ce réjouissant double vernissage !
URL:https://www.boutiquedulivre.ch/evenement/double-vernissage-poetique-la-chose-carree-et-la-veilleuse/
LOCATION:La Boutique du livre\, 4 rue des Chavannes\, Neuchâtel
CATEGORIES:Vernissage
ATTACH;FMTTYPE=image/jpeg:https://www.boutiquedulivre.ch/wp-content/uploads/2025/05/WhatsApp-Image-2025-05-16-at-09.40.27.jpeg
END:VEVENT
END:VCALENDAR