BEGIN:VCALENDAR
VERSION:2.0
PRODID:-//La Boutique du livre de Neuchâtel - ECPv6.15.18//NONSGML v1.0//EN
CALSCALE:GREGORIAN
METHOD:PUBLISH
X-ORIGINAL-URL:https://www.boutiquedulivre.ch
X-WR-CALDESC:Évènements pour La Boutique du livre de Neuchâtel
REFRESH-INTERVAL;VALUE=DURATION:PT1H
X-Robots-Tag:noindex
X-PUBLISHED-TTL:PT1H
BEGIN:VTIMEZONE
TZID:Europe/Paris
BEGIN:DAYLIGHT
TZOFFSETFROM:+0100
TZOFFSETTO:+0200
TZNAME:CEST
DTSTART:20240331T010000
END:DAYLIGHT
BEGIN:STANDARD
TZOFFSETFROM:+0200
TZOFFSETTO:+0100
TZNAME:CET
DTSTART:20241027T010000
END:STANDARD
BEGIN:DAYLIGHT
TZOFFSETFROM:+0100
TZOFFSETTO:+0200
TZNAME:CEST
DTSTART:20250330T010000
END:DAYLIGHT
BEGIN:STANDARD
TZOFFSETFROM:+0200
TZOFFSETTO:+0100
TZNAME:CET
DTSTART:20251026T010000
END:STANDARD
BEGIN:DAYLIGHT
TZOFFSETFROM:+0100
TZOFFSETTO:+0200
TZNAME:CEST
DTSTART:20260329T010000
END:DAYLIGHT
BEGIN:STANDARD
TZOFFSETFROM:+0200
TZOFFSETTO:+0100
TZNAME:CET
DTSTART:20261025T010000
END:STANDARD
END:VTIMEZONE
BEGIN:VEVENT
DTSTART;TZID=Europe/Paris:20250621T100000
DTEND;TZID=Europe/Paris:20250621T170000
DTSTAMP:20260420T101345
CREATED:20250601T202025Z
LAST-MODIFIED:20250601T202026Z
UID:1001-1750500000-1750525200@www.boutiquedulivre.ch
SUMMARY:Journée des réfugié·e·s: les nommer par leur nom
DESCRIPTION:Lecture dans la rue d’extraits littéraires et poétiques en lien avec l’exil et l’asile\, dans le cadre de la Journée des réfugié·e·s et de l’Action « Les nommer par leur nom ».  \n\n\n\nTout le programme de Neuchâtel voir ici.  \n\n\n\nPlus d’infos sur www.lesnommerparleurnom.ch
URL:https://www.boutiquedulivre.ch/evenement/journee-des-refugie%c2%b7e%c2%b7s-les-nommer-par-leur-nom/
LOCATION:La Boutique du livre\, 4 rue des Chavannes\, Neuchâtel
ATTACH;FMTTYPE=image/png:https://www.boutiquedulivre.ch/wp-content/uploads/2025/06/Bildschirmfoto-2025-06-01-um-22.17.58.png
END:VEVENT
END:VCALENDAR