BEGIN:VCALENDAR
VERSION:2.0
PRODID:-//La Boutique du livre de Neuchâtel - ECPv6.15.18//NONSGML v1.0//EN
CALSCALE:GREGORIAN
METHOD:PUBLISH
X-WR-CALNAME:La Boutique du livre de Neuchâtel
X-ORIGINAL-URL:https://www.boutiquedulivre.ch
X-WR-CALDESC:Évènements pour La Boutique du livre de Neuchâtel
REFRESH-INTERVAL;VALUE=DURATION:PT1H
X-Robots-Tag:noindex
X-PUBLISHED-TTL:PT1H
BEGIN:VTIMEZONE
TZID:Europe/Paris
BEGIN:DAYLIGHT
TZOFFSETFROM:+0100
TZOFFSETTO:+0200
TZNAME:CEST
DTSTART:20250330T010000
END:DAYLIGHT
BEGIN:STANDARD
TZOFFSETFROM:+0200
TZOFFSETTO:+0100
TZNAME:CET
DTSTART:20251026T010000
END:STANDARD
BEGIN:DAYLIGHT
TZOFFSETFROM:+0100
TZOFFSETTO:+0200
TZNAME:CEST
DTSTART:20260329T010000
END:DAYLIGHT
BEGIN:STANDARD
TZOFFSETFROM:+0200
TZOFFSETTO:+0100
TZNAME:CET
DTSTART:20261025T010000
END:STANDARD
BEGIN:DAYLIGHT
TZOFFSETFROM:+0100
TZOFFSETTO:+0200
TZNAME:CEST
DTSTART:20270328T010000
END:DAYLIGHT
BEGIN:STANDARD
TZOFFSETFROM:+0200
TZOFFSETTO:+0100
TZNAME:CET
DTSTART:20271031T010000
END:STANDARD
END:VTIMEZONE
BEGIN:VEVENT
DTSTART;TZID=Europe/Paris:20260213T183000
DTEND;TZID=Europe/Paris:20260213T200000
DTSTAMP:20260420T125207
CREATED:20260131T170438Z
LAST-MODIFIED:20260201T084555Z
UID:1333-1771007400-1771012800@www.boutiquedulivre.ch
SUMMARY:Présentation des livres "En beaux caractères" de Dóra Kiss et "Arpenté" d'Alain Freudiger
DESCRIPTION:Les deux ouvrages ont paru à La Baconnière. En beaux caractères vient de sortir\, Arpenté a été publié en 2024. \n\n\n\n\n\n\n\nArpenté auscultait les souvenirs d’une enfance dans la campagne vaudoise\, alors que En beaux caractères retrace tout un pan de l’histoire hongroise d’après 1956. Alain et Dóra parleront de petites et de grandes histoires\, de paysages\, des sources qui n’en sont pas toujours et de ce que l’écriture fait à tout ça. \n\n\n\n\n\n\n\n\n\n\n\n\n\n\n\n\n\n\n\n\n\nDóra Kiss est danseuse\, chercheuse et enseignante de français. Elle a étudié dans les universités de Genève et de Nice. Sa thèse de doctorat a été honorée par le prix Jacques-Handschin et elle a gagné par deux fois le prix Swiss dance heritage. En beaux caractères est son premier roman\, recommandé par RTS Culture parmi les 5 livres suisses à dévorer à la rentrée! \n\n\n\n\n\n\n\nAlain Freudiger a étudié l’histoire du cinéma et s’est illustré comme critique pour la revue Film puis Décadrages. Son œuvre littéraire est composée de romans (Liquéfaction\, Hélice Hélas\, 2019)\, de nouvelles (Espagnes\, La Baconnière\, 2016) et de poésie (Au téléphone\, Héros limite\, 2023). Le Mauvais génie (Une vie de Matti Nykänen)\, une biographie du sauteur à ski finlandais\, a reçu le Grand Prix Sport et Littérature en 2020. Il est également auteur de pièces sonores et travaille comme documentaliste aux archives de la Radio Télévision Suisse. \n\n\n\n\n\n\n\nLeur éditrice\, Laurence Gudin\, sera de la partie.  \n\n\n\n\n\n\n\nUn apéritif sera offert.
URL:https://www.boutiquedulivre.ch/evenement/presentation-des-livres-en-beaux-caracteres-de-dora-kiss-et-arpente-dalain-freudiger/
LOCATION:La Boutique du livre\, 4 rue des Chavannes\, Neuchâtel
CATEGORIES:Lecture
ATTACH;FMTTYPE=image/png:https://www.boutiquedulivre.ch/wp-content/uploads/2026/01/Bildschirmfoto-2026-01-31-um-18.03.25.png
END:VEVENT
END:VCALENDAR