BEGIN:VCALENDAR
VERSION:2.0
PRODID:-//La Boutique du livre de Neuchâtel - ECPv6.15.18//NONSGML v1.0//EN
CALSCALE:GREGORIAN
METHOD:PUBLISH
X-ORIGINAL-URL:https://www.boutiquedulivre.ch
X-WR-CALDESC:Évènements pour La Boutique du livre de Neuchâtel
REFRESH-INTERVAL;VALUE=DURATION:PT1H
X-Robots-Tag:noindex
X-PUBLISHED-TTL:PT1H
BEGIN:VTIMEZONE
TZID:Europe/Paris
BEGIN:DAYLIGHT
TZOFFSETFROM:+0100
TZOFFSETTO:+0200
TZNAME:CEST
DTSTART:20250330T010000
END:DAYLIGHT
BEGIN:STANDARD
TZOFFSETFROM:+0200
TZOFFSETTO:+0100
TZNAME:CET
DTSTART:20251026T010000
END:STANDARD
BEGIN:DAYLIGHT
TZOFFSETFROM:+0100
TZOFFSETTO:+0200
TZNAME:CEST
DTSTART:20260329T010000
END:DAYLIGHT
BEGIN:STANDARD
TZOFFSETFROM:+0200
TZOFFSETTO:+0100
TZNAME:CET
DTSTART:20261025T010000
END:STANDARD
BEGIN:DAYLIGHT
TZOFFSETFROM:+0100
TZOFFSETTO:+0200
TZNAME:CEST
DTSTART:20270328T010000
END:DAYLIGHT
BEGIN:STANDARD
TZOFFSETFROM:+0200
TZOFFSETTO:+0100
TZNAME:CET
DTSTART:20271031T010000
END:STANDARD
END:VTIMEZONE
BEGIN:VEVENT
DTSTART;TZID=Europe/Paris:20260228T160000
DTEND;TZID=Europe/Paris:20260228T180000
DTSTAMP:20260420T114116
CREATED:20260131T155541Z
LAST-MODIFIED:20260131T155710Z
UID:1377-1772294400-1772301600@www.boutiquedulivre.ch
SUMMARY:Rencontre autour du livre "Mortelle audience" de Christian Ciocca
DESCRIPTION:Alors que la SSR et sa filiale romande la RTS affrontent une remise en cause de leur légitimité de service public\, notamment par les attaques de l’UDC\, Mortelle audience retrace les péripéties qu’a subies la chaîne culturelle RTS Espace 2 dès 2020\, sous forme d’enquête policière et journalistique. \n\n\n\n\n\n\n\nAurons-nous à notre insu le choix du maintien de la qualité des rendez-vous médiatiques ou devrons-nous nous satisfaire du mainstream généralisé au risque d’une perte de substance démocratique ? Tel est l’enjeu de ce « conte » réaliste\, basé sur des faits observés de l’intérieur. \n\n\n\n\n\n\n\n\n\n\n\n\n\n\n\nChristian Ciocca\, libraire de formation\, a été de 1992 à 2021 documentaliste puis animateur et producteur d’émissions parlées\, ainsi que présentateur d’émissions musicales sur Espace 2 au sein de la RSR\, Radio Suisse Romande\, devenue la RTS\, Radio Télévision Suisse. \n\n\n\n\n\n\n\nIl s’entretiendra avec Jacques Poget\, qui a appris le métier de journaliste à La Tribune de Lausanne et la Feuille d’Avis de Lausanne avant d’être correspondant aux États-Unis de ce journal devenu 24 Heures\, puis « premier rédacteur » de La Tribune-Le Matin. Il est passé par la Télévision romande\, L’Illustré\, L’Hebdo avant de terminer sa carrière comme rédacteur en chef de 24 Heures. Il a enseigné le portrait au Centre de formation au journalisme et aux médias ainsi qu’à l’Académie du journalisme et des médias. \n\n\n\n\n\n\n\nEditions Georg: www.georg.ch \n\n\n\n\n\n\n\nComme il est d’usage à la Boutique\, un apéro sera offert à la fin de la rencontre.
URL:https://www.boutiquedulivre.ch/evenement/rencontre-autour-du-livre-mortelle-audience-de-christian-ciocca/
LOCATION:La Boutique du livre\, 4 rue des Chavannes\, Neuchâtel
ATTACH;FMTTYPE=image/jpeg:https://www.boutiquedulivre.ch/wp-content/uploads/2026/01/GEORG_Mortelle-audience_couverture_1-scaled.jpg
END:VEVENT
END:VCALENDAR