BEGIN:VCALENDAR
VERSION:2.0
PRODID:-//La Boutique du livre de Neuchâtel - ECPv6.15.18//NONSGML v1.0//EN
CALSCALE:GREGORIAN
METHOD:PUBLISH
X-WR-CALNAME:La Boutique du livre de Neuchâtel
X-ORIGINAL-URL:https://www.boutiquedulivre.ch
X-WR-CALDESC:Évènements pour La Boutique du livre de Neuchâtel
REFRESH-INTERVAL;VALUE=DURATION:PT1H
X-Robots-Tag:noindex
X-PUBLISHED-TTL:PT1H
BEGIN:VTIMEZONE
TZID:Europe/Paris
BEGIN:DAYLIGHT
TZOFFSETFROM:+0100
TZOFFSETTO:+0200
TZNAME:CEST
DTSTART:20250330T010000
END:DAYLIGHT
BEGIN:STANDARD
TZOFFSETFROM:+0200
TZOFFSETTO:+0100
TZNAME:CET
DTSTART:20251026T010000
END:STANDARD
BEGIN:DAYLIGHT
TZOFFSETFROM:+0100
TZOFFSETTO:+0200
TZNAME:CEST
DTSTART:20260329T010000
END:DAYLIGHT
BEGIN:STANDARD
TZOFFSETFROM:+0200
TZOFFSETTO:+0100
TZNAME:CET
DTSTART:20261025T010000
END:STANDARD
BEGIN:DAYLIGHT
TZOFFSETFROM:+0100
TZOFFSETTO:+0200
TZNAME:CEST
DTSTART:20270328T010000
END:DAYLIGHT
BEGIN:STANDARD
TZOFFSETFROM:+0200
TZOFFSETTO:+0100
TZNAME:CET
DTSTART:20271031T010000
END:STANDARD
END:VTIMEZONE
BEGIN:VEVENT
DTSTART;TZID=Europe/Paris:20260330T180000
DTEND;TZID=Europe/Paris:20260330T200000
DTSTAMP:20260421T112942
CREATED:20260309T220028Z
LAST-MODIFIED:20260309T220155Z
UID:1405-1774893600-1774900800@www.boutiquedulivre.ch
SUMMARY:Le son des sans-emploi
DESCRIPTION:Amateur.trice ? Pro ? L’Association de Défense des Chômeuses et des Chômeurs de Neuchâtel (ADCN) vous propose de participer à une jam session acoustique dans le confortable salon de notre grotte livresque.  \n\n\n\n\n\n\n\n\n\n\n\n\n\n\n\nImpro\, jeux d’écoute\, backtrack : prends ton instrument préféré et viens écouter\, chanter\, jouer\, improviser ! \n\n\n\n\n\n\n\nUn apéritif sera offert.Entrée au chapeau. \n\n\n\n\n\n\n\nInformations et réservation : info@adcn.ch
URL:https://www.boutiquedulivre.ch/evenement/le-son-des-sans-emploi/
LOCATION:La Boutique du livre\, 4 rue des Chavannes\, Neuchâtel
ATTACH;FMTTYPE=image/jpeg:https://www.boutiquedulivre.ch/wp-content/uploads/2026/03/WhatsApp-Image-2026-02-27-at-13.53.33-1.jpeg
END:VEVENT
END:VCALENDAR