BEGIN:VCALENDAR
VERSION:2.0
PRODID:-//La Boutique du livre de Neuchâtel - ECPv6.15.18//NONSGML v1.0//EN
CALSCALE:GREGORIAN
METHOD:PUBLISH
X-ORIGINAL-URL:https://www.boutiquedulivre.ch
X-WR-CALDESC:Évènements pour La Boutique du livre de Neuchâtel
REFRESH-INTERVAL;VALUE=DURATION:PT1H
X-Robots-Tag:noindex
X-PUBLISHED-TTL:PT1H
BEGIN:VTIMEZONE
TZID:Europe/Paris
BEGIN:DAYLIGHT
TZOFFSETFROM:+0100
TZOFFSETTO:+0200
TZNAME:CEST
DTSTART:20250330T010000
END:DAYLIGHT
BEGIN:STANDARD
TZOFFSETFROM:+0200
TZOFFSETTO:+0100
TZNAME:CET
DTSTART:20251026T010000
END:STANDARD
BEGIN:DAYLIGHT
TZOFFSETFROM:+0100
TZOFFSETTO:+0200
TZNAME:CEST
DTSTART:20260329T010000
END:DAYLIGHT
BEGIN:STANDARD
TZOFFSETFROM:+0200
TZOFFSETTO:+0100
TZNAME:CET
DTSTART:20261025T010000
END:STANDARD
BEGIN:DAYLIGHT
TZOFFSETFROM:+0100
TZOFFSETTO:+0200
TZNAME:CEST
DTSTART:20270328T010000
END:DAYLIGHT
BEGIN:STANDARD
TZOFFSETFROM:+0200
TZOFFSETTO:+0100
TZNAME:CET
DTSTART:20271031T010000
END:STANDARD
END:VTIMEZONE
BEGIN:VEVENT
DTSTART;TZID=Europe/Paris:20260411T170000
DTEND;TZID=Europe/Paris:20260411T183000
DTSTAMP:20260421T002927
CREATED:20260409T100804Z
LAST-MODIFIED:20260411T102213Z
UID:1504-1775926800-1775932200@www.boutiquedulivre.ch
SUMMARY:Présentation de "Le vol de l'éphémère" de Greg Deman (auteur) et Alessandra Bobbià (illustratrice)
DESCRIPTION:Grâce à 26 contes originaux et illustrés\, partez à la rencontre d’animaux et d’objets anthropomorphes\, de personnages ordinaires et extraordinaires\, de héros et d’antihéros en quête de sagesse.  \n\n\n\nHistoires d’un jour et de toujours\, histoires éphémères et éternelles\, où la psychologie\, la philosophie et la mystique se cachent sous une plume tantôt cocasse\, tantôt acerbe\, tantôt lyrique et poétique.  \n\n\n\nGreg Deman est hydrogéologue\, hypnothérapeute\, musicien et jardinier. Amoureux des sciences et de la philosophie\, il écrit pour comprendre\, pour traduire\, pour transmettre.
URL:https://www.boutiquedulivre.ch/evenement/vol-de-lephemere-de-greg-deman/
LOCATION:La Boutique du livre\, 4 rue des Chavannes\, Neuchâtel
ATTACH;FMTTYPE=image/jpeg:https://www.boutiquedulivre.ch/wp-content/uploads/2026/04/1500_1500_couv_vol_ephemere_g-deman_a-bobbia.jpeg
END:VEVENT
END:VCALENDAR