BEGIN:VCALENDAR
VERSION:2.0
PRODID:-//La Boutique du livre de Neuchâtel - ECPv6.15.18//NONSGML v1.0//EN
CALSCALE:GREGORIAN
METHOD:PUBLISH
X-WR-CALNAME:La Boutique du livre de Neuchâtel
X-ORIGINAL-URL:https://www.boutiquedulivre.ch
X-WR-CALDESC:Évènements pour La Boutique du livre de Neuchâtel
REFRESH-INTERVAL;VALUE=DURATION:PT1H
X-Robots-Tag:noindex
X-PUBLISHED-TTL:PT1H
BEGIN:VTIMEZONE
TZID:Europe/Paris
BEGIN:DAYLIGHT
TZOFFSETFROM:+0100
TZOFFSETTO:+0200
TZNAME:CEST
DTSTART:20250330T010000
END:DAYLIGHT
BEGIN:STANDARD
TZOFFSETFROM:+0200
TZOFFSETTO:+0100
TZNAME:CET
DTSTART:20251026T010000
END:STANDARD
BEGIN:DAYLIGHT
TZOFFSETFROM:+0100
TZOFFSETTO:+0200
TZNAME:CEST
DTSTART:20260329T010000
END:DAYLIGHT
BEGIN:STANDARD
TZOFFSETFROM:+0200
TZOFFSETTO:+0100
TZNAME:CET
DTSTART:20261025T010000
END:STANDARD
BEGIN:DAYLIGHT
TZOFFSETFROM:+0100
TZOFFSETTO:+0200
TZNAME:CEST
DTSTART:20270328T010000
END:DAYLIGHT
BEGIN:STANDARD
TZOFFSETFROM:+0200
TZOFFSETTO:+0100
TZNAME:CET
DTSTART:20271031T010000
END:STANDARD
END:VTIMEZONE
BEGIN:VEVENT
DTSTART;TZID=Europe/Paris:20260507T180000
DTEND;TZID=Europe/Paris:20260507T200000
DTSTAMP:20260422T143932
CREATED:20260420T103827Z
LAST-MODIFIED:20260421T151649Z
UID:1641-1778176800-1778184000@www.boutiquedulivre.ch
SUMMARY:Refuser de parvenir : échanges autour de la réussite et de l'anarchie
DESCRIPTION:Tant que notre triomphe ne sera pas en même temps celui de tous\, ayons la chance de ne jamais réussir ! Élisée Reclus \n\n\n\n\nNous vivons aujourd’hui sous l’injonction de la réussite. Réussir\, c’est se livrer corps et âme à la compétition pour se hisser au-dessus des autres. Certain·e·s\, pourtant\, refusent de gravir les échelons et de se compromettre avec le pouvoir. Le refus de parvenir a été et reste largement pratiqué et discuté au sein du mouvement anarchiste\, depuis Michel Bakounine et Élisée Reclus jusque dans les luttes actuelles. Ce recueil propose de découvrir différents aspects de ce principe radical d’insoumission.Contribution libre.
URL:https://www.boutiquedulivre.ch/evenement/refuser-de-parvenir-echanges-autour-de-la-reussite-et-de-lanarchie/
LOCATION:La Boutique du livre\, 4 rue des Chavannes\, Neuchâtel
ATTACH;FMTTYPE=image/jpeg:https://www.boutiquedulivre.ch/wp-content/uploads/2026/04/E45D55A50F2DA494C303E128E414740D3B5C58BE_364_front_234x364.jpeg
END:VEVENT
END:VCALENDAR