BEGIN:VCALENDAR
VERSION:2.0
PRODID:-//La Boutique du livre de Neuchâtel - ECPv6.15.18//NONSGML v1.0//EN
CALSCALE:GREGORIAN
METHOD:PUBLISH
X-WR-CALNAME:La Boutique du livre de Neuchâtel
X-ORIGINAL-URL:https://www.boutiquedulivre.ch
X-WR-CALDESC:Évènements pour La Boutique du livre de Neuchâtel
REFRESH-INTERVAL;VALUE=DURATION:PT1H
X-Robots-Tag:noindex
X-PUBLISHED-TTL:PT1H
BEGIN:VTIMEZONE
TZID:Europe/Paris
BEGIN:DAYLIGHT
TZOFFSETFROM:+0100
TZOFFSETTO:+0200
TZNAME:CEST
DTSTART:20240331T010000
END:DAYLIGHT
BEGIN:STANDARD
TZOFFSETFROM:+0200
TZOFFSETTO:+0100
TZNAME:CET
DTSTART:20241027T010000
END:STANDARD
BEGIN:DAYLIGHT
TZOFFSETFROM:+0100
TZOFFSETTO:+0200
TZNAME:CEST
DTSTART:20250330T010000
END:DAYLIGHT
BEGIN:STANDARD
TZOFFSETFROM:+0200
TZOFFSETTO:+0100
TZNAME:CET
DTSTART:20251026T010000
END:STANDARD
BEGIN:DAYLIGHT
TZOFFSETFROM:+0100
TZOFFSETTO:+0200
TZNAME:CEST
DTSTART:20260329T010000
END:DAYLIGHT
BEGIN:STANDARD
TZOFFSETFROM:+0200
TZOFFSETTO:+0100
TZNAME:CET
DTSTART:20261025T010000
END:STANDARD
END:VTIMEZONE
BEGIN:VEVENT
DTSTART;TZID=Europe/Paris:20250316T100000
DTEND;TZID=Europe/Paris:20250316T150000
DTSTAMP:20260422T010048
CREATED:20250302T183125Z
LAST-MODIFIED:20250304T084142Z
UID:909-1742119200-1742137200@www.boutiquedulivre.ch
SUMMARY:Atelier déambulatoire d’expression aléatoire
DESCRIPTION:Un moment de découvertes\, d’affûtage de l’attention et de déploiement d’expression en deux temps: \n\n\n\n– flânerie depuis la vieille ville pour capter\, noter\, croquer\, … les sons et les saynètes titillant œil et oreille. Chemin façonnant\, des poèmes seront lus\, chantés\, déclamés ou murmurés.  \n\n\n\n– petite menuiserie d’écriture\, de dessin\, de mouvements\, … permettant d’explorer la musicalité de son moyen d’expression d’élection. \n\n\n\nEn (très bonne) compagnie de Raphaël Despland\, l’auteur de « des voix des vagues » (éd. du Griffon)\, et de Karim\, le saltimbouquiniste équilibriste de la rue des Chavannes.  \n\n\n\nDépart à 10h03 à la Boutique du Livre. Fin supposée à 15h06\, probablement ailleurs mais pas loin.  \n\n\n\nUne soupe sera offerte quelque part entre les deux\, un peu de fromage aussi. Prix libre et joyeux. \n\n\n\nDans le cadre de la dixième édition du Printemps de la poésie du 15 au 29 mars 2025. Voir tout le programme ici et ci-dessous: \n\n\n\nSamedi 15 mars : Danser le Tarot sur papier dans les pas d’Alejandro Jodorowski » avec Carla Fragnière Filliger \n\n\n\nLundi 17 mars : Poétique de la nuit avec La Chose carrée \n\n\n\nDimanche 23 mars : Le sens du son avec Raphaël Despland (et Karim Karkeni) \n\n\n\nDimanche 23 mars : Dans le viseur du visuel avec La Chose carrée \n\n\n\nJeudi 27 mars : En tenue de Soir(Orph)ée avec un casting à faire pâlir le Paléo\, mais c’est une surprise \n\n\n\nSamedi 28 mars: Nuit de la poésie à la Boutique \n\n\n\nSamedi 29 mars : Ce chant subiéreux\, échos de lierre avec et par Alexandre Caldara
URL:https://www.boutiquedulivre.ch/evenement/atelier-deambulatoire-dexpression-aleatoire/
LOCATION:La Boutique du livre\, 4 rue des Chavannes\, Neuchâtel
CATEGORIES:Atelier
ATTACH;FMTTYPE=image/jpeg:https://www.boutiquedulivre.ch/wp-content/uploads/2025/03/atelierdeambulatoire.jpeg
END:VEVENT
END:VCALENDAR