BEGIN:VCALENDAR
VERSION:2.0
PRODID:-//La Boutique du livre de Neuchâtel - ECPv6.15.18//NONSGML v1.0//EN
CALSCALE:GREGORIAN
METHOD:PUBLISH
X-WR-CALNAME:La Boutique du livre de Neuchâtel
X-ORIGINAL-URL:https://www.boutiquedulivre.ch
X-WR-CALDESC:Évènements pour La Boutique du livre de Neuchâtel
REFRESH-INTERVAL;VALUE=DURATION:PT1H
X-Robots-Tag:noindex
X-PUBLISHED-TTL:PT1H
BEGIN:VTIMEZONE
TZID:Europe/Paris
BEGIN:DAYLIGHT
TZOFFSETFROM:+0100
TZOFFSETTO:+0200
TZNAME:CEST
DTSTART:20240331T010000
END:DAYLIGHT
BEGIN:STANDARD
TZOFFSETFROM:+0200
TZOFFSETTO:+0100
TZNAME:CET
DTSTART:20241027T010000
END:STANDARD
BEGIN:DAYLIGHT
TZOFFSETFROM:+0100
TZOFFSETTO:+0200
TZNAME:CEST
DTSTART:20250330T010000
END:DAYLIGHT
BEGIN:STANDARD
TZOFFSETFROM:+0200
TZOFFSETTO:+0100
TZNAME:CET
DTSTART:20251026T010000
END:STANDARD
BEGIN:DAYLIGHT
TZOFFSETFROM:+0100
TZOFFSETTO:+0200
TZNAME:CEST
DTSTART:20260329T010000
END:DAYLIGHT
BEGIN:STANDARD
TZOFFSETFROM:+0200
TZOFFSETTO:+0100
TZNAME:CET
DTSTART:20261025T010000
END:STANDARD
END:VTIMEZONE
BEGIN:VEVENT
DTSTART;TZID=Europe/Paris:20250314T183000
DTEND;TZID=Europe/Paris:20250314T200000
DTSTAMP:20260421T044648
CREATED:20250226T212336Z
LAST-MODIFIED:20250226T212539Z
UID:896-1741977000-1741982400@www.boutiquedulivre.ch
SUMMARY:Tiny desk concert de LUCIE
DESCRIPTION:Baignée dans la musique depuis l’enfance\, LUCIE compose et écrit ses chansons depuis quelques années seulement. Les créations de son premier EP\, qui sortira prochainement\, inspirées du Jazz\, du RnB\, de la pop ou encore de la funk sont envoûtantes\, intimes et pleines de fraîcheurs. A côté de ses toutes premières scènes comme celle du carré des senteurs\, LUCIE fait découvrir son univers musical sur les réseaux sociaux\, en partageant des reprises pleines de douceur et de mélancolie. \n\n\n\nLa Boutique du Livre et ses bénévoles se réjouissent d’accueillir la lumière des mélodies de Lucie. Son concert\, sous format inspiré des célèbres « Tiny desk concerts » sera également filmé. Le public restera\, lui\, anonyme. C’est un honneur pour notre grotte pleines de livres et de sourires de vous annoncer sa venue\, ainsi que celle des musicien·e·s et du vidéaste de son équipe.
URL:https://www.boutiquedulivre.ch/evenement/tiny-desk-concert-de-lucie/
LOCATION:La Boutique du livre\, 4 rue des Chavannes\, Neuchâtel
CATEGORIES:Concert
ATTACH;FMTTYPE=image/jpeg:https://www.boutiquedulivre.ch/wp-content/uploads/2025/02/lucie14mars.jpg
END:VEVENT
END:VCALENDAR