BEGIN:VCALENDAR
VERSION:2.0
PRODID:-//La Boutique du livre de Neuchâtel - ECPv6.15.18//NONSGML v1.0//EN
CALSCALE:GREGORIAN
METHOD:PUBLISH
X-WR-CALNAME:La Boutique du livre de Neuchâtel
X-ORIGINAL-URL:https://www.boutiquedulivre.ch
X-WR-CALDESC:Évènements pour La Boutique du livre de Neuchâtel
REFRESH-INTERVAL;VALUE=DURATION:PT1H
X-Robots-Tag:noindex
X-PUBLISHED-TTL:PT1H
BEGIN:VTIMEZONE
TZID:Europe/Paris
BEGIN:DAYLIGHT
TZOFFSETFROM:+0100
TZOFFSETTO:+0200
TZNAME:CEST
DTSTART:20240331T010000
END:DAYLIGHT
BEGIN:STANDARD
TZOFFSETFROM:+0200
TZOFFSETTO:+0100
TZNAME:CET
DTSTART:20241027T010000
END:STANDARD
BEGIN:DAYLIGHT
TZOFFSETFROM:+0100
TZOFFSETTO:+0200
TZNAME:CEST
DTSTART:20250330T010000
END:DAYLIGHT
BEGIN:STANDARD
TZOFFSETFROM:+0200
TZOFFSETTO:+0100
TZNAME:CET
DTSTART:20251026T010000
END:STANDARD
BEGIN:DAYLIGHT
TZOFFSETFROM:+0100
TZOFFSETTO:+0200
TZNAME:CEST
DTSTART:20260329T010000
END:DAYLIGHT
BEGIN:STANDARD
TZOFFSETFROM:+0200
TZOFFSETTO:+0100
TZNAME:CET
DTSTART:20261025T010000
END:STANDARD
END:VTIMEZONE
BEGIN:VEVENT
DTSTART;TZID=Europe/Paris:20251213T110000
DTEND;TZID=Europe/Paris:20251213T230000
DTSTAMP:20260420T165828
CREATED:20251025T154356Z
LAST-MODIFIED:20260412T153910Z
UID:1143-1765623600-1765666800@www.boutiquedulivre.ch
SUMMARY:La Boutique souffle ses deux bougies
DESCRIPTION:Venez fêter avec nous les deux ans d’existence de la Boutique du livre sous forme associative !Nous avons concocté un programme éclectique pour toutes et tous\, de 7 à 99 ans\, à partir de 11h.Vers 18h30\, nous annoncerons le lancement de nos livres suspendus\, suivi d’une scène ouverte à celles et ceux qui souhaitent slamer\, lire\, jouer quelques morceaux ou chanter.Et comme toujours à la Boutique\, de bonnes choses à grignoter et à partager vous attendent ! \n\n\n\n\n\n\n\n\n\n\n\n\n\n\n\n\n\n\n\n\n\n11h-12h / Karine Yoakim Pasquier / Le sabre du samouraï\n\n\n\nQuand elle était enfant\, Karine Yoakim Pasquier a vécu une expérience marquante : sa famille d’accueil a hébergé une petite fille suisso-japonaise. Devenue très proche de sa famille au Japon\, Karine y a passé toutes ses vacances et y a découvert la culture et les traditions nippones. \n\n\n\nC’est là\, chez ses « sœurs japonaises »\, qu’elle a écrit sa première trilogie jeunesse Le Monde des dragons. Son quatrième roman\, Le sabre du samouraï\, s’inspire des invasions mongoles de 1281 menées par Kubilaï Khan\, et a été en partie rédigé depuis Kyushu\, au sud du Japon. \n\n\n\nElle écrit aussi pour d’autres publics : albums illustrés pour les tout-petits (publiés en français\, anglais et chinois simplifié avec une artiste hongkongaise) et le roman Oublier Gabriel (Éditions Torticolis et Frères\, 2022)\, lauréat du prix Mousse Boulanger 2023. Depuis 2022\, elle fait partie du collectif AJAR. \n\n\n\nAu programme de l’atelier :Les enfants plongeront dans l’univers des samouraïs à travers Le sabre du samouraï.1. Échange autour du livre\, des samouraïs et de la véritable histoire des invasions mongoles.2. Atelier créatif : fabrication d’un marque-page en forme de tachi\, l’ancêtre du katana. \n\n\n\n\n\n\n\n\n\n12h-13h / Hekmat Homsi / oud et guitare\n\n\n\nHekmat Homsi\, musicien syrien basé à Neuchâtel\, développe une esthétique où la précision interprétative s’allie à la profondeur des traditions musicales qu’il explore. Formé aux répertoires du Moyen-Orient et de la musique classique occidentale\, il navigue avec aisance entre les deux univers. \n\n\n\nPour son concert à la Boutique\, il propose un voyage sonore construit autour de l’oud et de la guitare\, deux instruments dont l’histoire traverse les cultures et les siècles.  \n\n\n\nLe programme réunit des œuvres de Hussein Sabsaby\, Rohi Al-Khammash et Hekmat Homsi\, en dialogue avec William Walton\, Hans Werner Henze et Astor Piazzolla. L’ensemble compose un itinéraire qui fait se rencontrer modes\, écriture contemporaine et couleurs latino-américaines\, révélant les correspondances subtiles entre ces langages musicaux. \n\n\n\n\n\n\n\n\n\n\n\n\n\n\n\n\n\n\n\n13h30-14h30 / Vi Indigaïa / contes\n\n\n\nC’est la fin d’année\, c’est le temps des cadeaux\, le plaisir des surprises. C’est le moment de se laisser entraîner dans un espace-temps fabuleux\, drôle\, surnaturel et déraisonnable par la conteuse Vi Indigaïa. \n\n\n\nQui sait ce qui surgira… pour sûr de la malice et une gourmandise d’aventures !Photo: Alice Meister \n\n\n\n\n\n\n\n\n\n14h30-15h30 / Max Jeann / roman graphique\n\n\n\nTout commence à table. Pétrole\, héroïne bouillonnante et en quête de sens\, se retrouve face à un homme bancal et sans éclat. L’ennui de ce repas ordinaire ouvre alors les portes d’un imaginaire extraordinaire.Pétrole explore les rages existentielles\, la poésie des illusions et l’humour cynique de celles et ceux qui cherchent à se réinventer.Un roman graphique à la croisée de l’autofiction et du fantastique\, entre poésie\, rage et humour noir. \n\n\n\nArtiste et illustratrice née en Suisse\, Stéphanie ‘Max Jeann’ Jeannet a étudié aux Beaux-Arts de Sierre (EDHEA) et à l’académie Bezalel de Jérusalem. Son travail\, mêlant dessin\, animation et bandes sonores expérimentales\, l’a menée en résidences en Finlande\, au Canada\, en France et en Belgique. \n\n\n\n\n\n\n\n\n\n\n\n\n\n\n\n\n\n\n\n16h-17h / fran· / Lecture à laquelle il faudrait trouver un titre\n\n\n\nAprès quelques interventions électriques à la boutique du livre\, fran· revient en mode unplugged pour une lecture texte et voix : simple. Iel nous présentera son « Recueil auquel il faudrait trouver un titre »\, poèmes queer de révoltes\, de guerilla et d’espoir. \n\n\n\n\n\n\n\n\n\n17h30-18h30 / Aline Schüpbach / lecture bilingue fr/de\n\n\n\nAline Iris Schüpbach (*2000 à Bienne) s’adonne dans son atelier à la narration – à travers des textes\, des performances\, des sculptures et des installations. Elle s’intéresse à la mémoire et à l’oubli\, à l’internet\, aux systèmes de classement\, aux PNJ présumés\, aux chiens et aux amitiés. Elle écrit seule et avec deux collectifs. Aline est titulaire d’un BA en art et médiation artistique\, est une comédienne de voix off de formation et elle adore travailler comme dramaturge. \n\n\n\n\n\n\n\n\n\n\n\n\n\nA partir de 18h30: lancement des livres suspendus et scène ouverte\n\n\n\n\n\n\n\nCela faisait longtemps que l’équipe de la Boutique voulait lancer ses livres suspendus\, inspirés des cafés suspendus\, pour que la lecture reste accessible à toutes et tous. Le principe est simple : vous achetez un livre pour vous\, puis ajoutez quelques pièces dans la tirelire – de quoi offrir un livre à quelqu’un d’autre\, qui n’aurait peut-être pas pu se l’offrir ce jour-là. \n\n\n\nPour terminer cette journée de fête en beauté\, nous invitons celles et ceux qui souhaitent slamer\, lire\, jouer quelques morceaux ou chanter à notre scène ouverte.  \n\n\n\nEt comme toujours à la Boutique\, de bonnes choses à grignoter et à partager vous attendent ! \n\n\n\n\n\n\n\nPas moins de 200 francs récoltés le 13 décembre dernier pour les livres suspendus\, à l’occasion de notre deuxième anniversaire. Quelle journée mémorable ! En voici quelques impressions en images…
URL:https://www.boutiquedulivre.ch/evenement/celebrons-ensemble-les-deux-ans-de-la-boutique/
LOCATION:La Boutique du livre\, 4 rue des Chavannes\, Neuchâtel
CATEGORIES:Concert,Contes,Fête,Lecture,Performance
END:VEVENT
END:VCALENDAR