BEGIN:VCALENDAR
VERSION:2.0
PRODID:-//La Boutique du livre de Neuchâtel - ECPv6.15.18//NONSGML v1.0//EN
CALSCALE:GREGORIAN
METHOD:PUBLISH
X-WR-CALNAME:La Boutique du livre de Neuchâtel
X-ORIGINAL-URL:https://www.boutiquedulivre.ch
X-WR-CALDESC:Évènements pour La Boutique du livre de Neuchâtel
REFRESH-INTERVAL;VALUE=DURATION:PT1H
X-Robots-Tag:noindex
X-PUBLISHED-TTL:PT1H
BEGIN:VTIMEZONE
TZID:Europe/Paris
BEGIN:DAYLIGHT
TZOFFSETFROM:+0100
TZOFFSETTO:+0200
TZNAME:CEST
DTSTART:20240331T010000
END:DAYLIGHT
BEGIN:STANDARD
TZOFFSETFROM:+0200
TZOFFSETTO:+0100
TZNAME:CET
DTSTART:20241027T010000
END:STANDARD
BEGIN:DAYLIGHT
TZOFFSETFROM:+0100
TZOFFSETTO:+0200
TZNAME:CEST
DTSTART:20250330T010000
END:DAYLIGHT
BEGIN:STANDARD
TZOFFSETFROM:+0200
TZOFFSETTO:+0100
TZNAME:CET
DTSTART:20251026T010000
END:STANDARD
BEGIN:DAYLIGHT
TZOFFSETFROM:+0100
TZOFFSETTO:+0200
TZNAME:CEST
DTSTART:20260329T010000
END:DAYLIGHT
BEGIN:STANDARD
TZOFFSETFROM:+0200
TZOFFSETTO:+0100
TZNAME:CET
DTSTART:20261025T010000
END:STANDARD
END:VTIMEZONE
BEGIN:VEVENT
DTSTART;TZID=Europe/Paris:20250605T183000
DTEND;TZID=Europe/Paris:20250605T200000
DTSTAMP:20260421T065048
CREATED:20250519T135722Z
LAST-MODIFIED:20250603T190807Z
UID:983-1749148200-1749153600@www.boutiquedulivre.ch
SUMMARY:Bande dessinée: "Celeste\, l'enfant du placard"
DESCRIPTION:L’auteur Pierdomenico Bortune et l’illustratrice Cecilia Bozzoli viendront nous présenter cette bande dessinée qui évoque la rencontre de Léane\, adolescente d’origine italienne\, et de sa voisine\, Celeste. Fille de saisonnier italien et enfant cachée dans les années 60/70\, Celeste a vécu les conséquences du statut de son père qui interdisait le regroupement familial. À travers les yeux de Léane\, c’est l’histoire passée de l’immigration italienne en Suisse qui est évoquée. \n\n\n\n\n\n\n\nCombien d’expériences\, vécus\, privations\, rêves et espérances se cachent derrière le mot immigration ?C’est grâce à un devoir de vacances pour les cours de langue et culture italienne qu’elle fréquente\, que Léane\, adolescente d’origine italienne mais née et ayant grandi à Neuchâtel\, rencontre sa voisine Celeste. En passant la frontière à dix ans avec son père saisonnier\, cachée dans le coffre d’une voiture\, Celeste fut l’une des nombreux·ses “enfants caché·e·s” de la Suisse des années soixante. \n\n\n\n\n\n\n\nSes passionnants souvenirs aideront la jeune Léane à affronter des moments tout aussi difficiles et à réfléchir pour la première fois sur le sens et la richesse de sa propre histoire. \n\n\n\n\n\n\n\nUne rencontre inattendue scellera cette nouvelle amitié et Léane\, qui rêve de devenir journaliste\, peut être fière de sa première enquête ! \n\n\n\n\n\n\n\nHistoire de fiction inspirée d’expériences vécues\, Celeste\, l’enfant du placard donne un regard sur le passé de la Suisse et des immigrés italiens au cours des années 60/70\, particulièrement durant la période des initiatives Schwarzenbach\, politicien suisse à l’origine de l’initiative contre la surpopulation étrangère à la fin des années 1960. \n\n\n\n\n\n\n\nLa bande dessinée se termine par un volet historique pour mieux comprendre le contexte social et politique de cette époque. \n\n\n\n\n\n\n\nTextes de Pierdomenico BortuneDessins signés Cecilia BozzoliTraduction en français de Celeste\, bambina nascosta (2021).Editions Antipodes
URL:https://www.boutiquedulivre.ch/evenement/bande-dessinee-celeste-lenfant-du-placard/
LOCATION:La Boutique du livre\, 4 rue des Chavannes\, Neuchâtel
CATEGORIES:Lecture
ATTACH;FMTTYPE=image/png:https://www.boutiquedulivre.ch/wp-content/uploads/2025/05/Bildschirmfoto-2025-05-19-um-15.56.50.png
END:VEVENT
END:VCALENDAR