BEGIN:VCALENDAR
VERSION:2.0
PRODID:-//La Boutique du livre de Neuchâtel - ECPv6.15.18//NONSGML v1.0//EN
CALSCALE:GREGORIAN
METHOD:PUBLISH
X-ORIGINAL-URL:https://www.boutiquedulivre.ch
X-WR-CALDESC:Évènements pour La Boutique du livre de Neuchâtel
REFRESH-INTERVAL;VALUE=DURATION:PT1H
X-Robots-Tag:noindex
X-PUBLISHED-TTL:PT1H
BEGIN:VTIMEZONE
TZID:Europe/Paris
BEGIN:DAYLIGHT
TZOFFSETFROM:+0100
TZOFFSETTO:+0200
TZNAME:CEST
DTSTART:20250330T010000
END:DAYLIGHT
BEGIN:STANDARD
TZOFFSETFROM:+0200
TZOFFSETTO:+0100
TZNAME:CET
DTSTART:20251026T010000
END:STANDARD
BEGIN:DAYLIGHT
TZOFFSETFROM:+0100
TZOFFSETTO:+0200
TZNAME:CEST
DTSTART:20260329T010000
END:DAYLIGHT
BEGIN:STANDARD
TZOFFSETFROM:+0200
TZOFFSETTO:+0100
TZNAME:CET
DTSTART:20261025T010000
END:STANDARD
BEGIN:DAYLIGHT
TZOFFSETFROM:+0100
TZOFFSETTO:+0200
TZNAME:CEST
DTSTART:20270328T010000
END:DAYLIGHT
BEGIN:STANDARD
TZOFFSETFROM:+0200
TZOFFSETTO:+0100
TZNAME:CET
DTSTART:20271031T010000
END:STANDARD
END:VTIMEZONE
BEGIN:VEVENT
DTSTART;TZID=Europe/Paris:20260429T183000
DTEND;TZID=Europe/Paris:20260429T203000
DTSTAMP:20260421T113612
CREATED:20260411T105215Z
LAST-MODIFIED:20260411T110446Z
UID:1526-1777487400-1777494600@www.boutiquedulivre.ch
SUMMARY:Lecture et signature de "L’Effacée – L’héritage interdit de la barbarie nazie" de Françoise Matthey
DESCRIPTION:L’Effacée redonne voix aux « Malgré-elles »\, ces jeunes femmes originaires d’Alsace et de Moselle enrôlées de force par les structures nazies\, et explore les héritages invisibles transmis malgré l’oubli.  \n\n\n\n\n\n\n\nCe récit mêle investigation personnelle\, réflexion sur la mémoire et écriture sensible pour faire émerger ce que les documents seuls ne disent pas. \n\n\n\n\n\n\n\nÀ travers la découverte fortuite d’une coupure de presse annonçant la mort d’une jeune femme alsacienne des suites d’expériences médicales nazies\, l’autrice ouvre une enquête intime et mémorielle. Cette femme\, première épouse de son père\, était jusque-là restée absente du récit familial\, effacée par le silence et l’Histoire. \n\n\n\n\n\n\n\nEntre 1939 et 1946\, Strasbourg fut le théâtre de nombreux destins brisés. L’Effacée redonne voix aux « Malgré-elles »\, ces jeunes femmes originaires d’Alsace et de Moselle enrôlées de force par les structures nazies\, et explore les héritages invisibles transmis malgré l’oubli. Ce récit mêle investigation personnelle\, réflexion sur la mémoire et écriture sensible pour faire émerger ce que les documents seuls ne disent pas. \n\n\n\n\n\n\n\nFrançoise Matthey\, née à Strasbourg le 16 août 1949\, est une éducatrice spécialisée\, bibliothécaire\, médiathécaire\, écrivain et poète vaudoise.Portrait réalisé à la BCU Lausanne\, le 3 mars 2015.
URL:https://www.boutiquedulivre.ch/evenement/lecture-et-signature-de-leffacee-lheritage-interdit-de-la-barbarie-nazie-de-francoise-matthey/
LOCATION:La Boutique du livre\, 4 rue des Chavannes\, Neuchâtel
CATEGORIES:Lecture
ATTACH;FMTTYPE=image/jpeg:https://www.boutiquedulivre.ch/wp-content/uploads/2026/04/leffacee.jpg
END:VEVENT
BEGIN:VEVENT
DTSTART;TZID=Europe/Paris:20260502T160000
DTEND;TZID=Europe/Paris:20260502T170000
DTSTAMP:20260421T113612
CREATED:20260420T102537Z
LAST-MODIFIED:20260420T102541Z
UID:1638-1777737600-1777741200@www.boutiquedulivre.ch
SUMMARY:Nadia & Mohsen : portraits d'Iran (concert)
DESCRIPTION:La locloise Nadia Vuilleumier a vécu de 2013 à 2021 à Kerman dans le sud de l’Iran avec le musicien Mohsen Azizan. Elle y a recueilli des récits de vie et les partage en donnant la parole aux protagonistes eux-mêmes : cinq portraits puissants\, tout en nuances et loin des idées reçues\, qui dessinent les contours d’une société complexe et éclairent l’actualité.  \n\n\n\nCes récits sont accompagnés des compositions de musique classique persane de Mohsen Azizan\, qu’il interprète au setar.
URL:https://www.boutiquedulivre.ch/evenement/nadia-mohsen-portraits-diran-concert/
ATTACH;FMTTYPE=image/avif:https://www.boutiquedulivre.ch/wp-content/uploads/2026/04/Photo-Nadia-et-Mohsen.avif
END:VEVENT
BEGIN:VEVENT
DTSTART;TZID=Europe/Paris:20260507T180000
DTEND;TZID=Europe/Paris:20260507T200000
DTSTAMP:20260421T113612
CREATED:20260420T103827Z
LAST-MODIFIED:20260420T104713Z
UID:1641-1778176800-1778184000@www.boutiquedulivre.ch
SUMMARY:Refuser de parvenir : échanges autour de la réussite et de l'anarchie
DESCRIPTION:Tant que notre triomphe ne sera pas en même temps celui de tous\, ayons la chance de ne jamais réussir ! Élisée Reclus \n\n\n\n\nNous vivons aujourd’hui sous l’injonction de la réussite. Réussir\, c’est se livrer corps et âme à la compétition pour se hisser au-dessus des autres. Certain·e·s\, pourtant\, refusent de gravir les échelons et de se compromettre avec le pouvoir. Le refus de parvenir a été et reste largement pratiqué et discuté au sein du mouvement anarchiste\, depuis Michel Bakounine et Élisée Reclus jusque dans les luttes actuelles. Ce recueil propose de découvrir différents aspects de ce principe radical d’insoumission.
URL:https://www.boutiquedulivre.ch/evenement/refuser-de-parvenir-echanges-autour-de-la-reussite-et-de-lanarchie/
ATTACH;FMTTYPE=image/jpeg:https://www.boutiquedulivre.ch/wp-content/uploads/2026/04/E45D55A50F2DA494C303E128E414740D3B5C58BE_364_front_234x364.jpeg
END:VEVENT
BEGIN:VEVENT
DTSTART;TZID=Europe/Paris:20260527T110000
DTEND;TZID=Europe/Paris:20260527T170000
DTSTAMP:20260421T113612
CREATED:20260420T104338Z
LAST-MODIFIED:20260420T104340Z
UID:1645-1779879600-1779901200@www.boutiquedulivre.ch
SUMMARY:Journée de la Lecture à voix haute
DESCRIPTION:À l’occasion de la neuvième Journée suisse de la lecture à voix haute\, des bénévoles de La Boutique du Livre se joindront aux lectures seront organisées dans la Suisse entière. Leurs voix résonneront dans la rue des Chavannes inopinément tout au long de la journée. Enfants\, parents\, promeneurs.euses… vous êtes tous et toutes conviées à cet événement libre\, pour écouter ou faire entendre votre voix.  \n\n\n\nLa lecture à voix haute crée du lien\, favorise les échanges et encourage les enfants et jeunes à explorer le monde des livres et des histoires avec curiosité.
URL:https://www.boutiquedulivre.ch/evenement/journee-de-la-lecture-a-voix-haute/
ATTACH;FMTTYPE=image/jpeg:https://www.boutiquedulivre.ch/wp-content/uploads/2026/04/unnamed.jpg
END:VEVENT
END:VCALENDAR