BEGIN:VCALENDAR
VERSION:2.0
PRODID:-//La Boutique du livre de Neuchâtel - ECPv6.15.18//NONSGML v1.0//EN
CALSCALE:GREGORIAN
METHOD:PUBLISH
X-WR-CALNAME:La Boutique du livre de Neuchâtel
X-ORIGINAL-URL:https://www.boutiquedulivre.ch
X-WR-CALDESC:Évènements pour La Boutique du livre de Neuchâtel
REFRESH-INTERVAL;VALUE=DURATION:PT1H
X-Robots-Tag:noindex
X-PUBLISHED-TTL:PT1H
BEGIN:VTIMEZONE
TZID:Europe/Paris
BEGIN:DAYLIGHT
TZOFFSETFROM:+0100
TZOFFSETTO:+0200
TZNAME:CEST
DTSTART:20230326T010000
END:DAYLIGHT
BEGIN:STANDARD
TZOFFSETFROM:+0200
TZOFFSETTO:+0100
TZNAME:CET
DTSTART:20231029T010000
END:STANDARD
BEGIN:DAYLIGHT
TZOFFSETFROM:+0100
TZOFFSETTO:+0200
TZNAME:CEST
DTSTART:20240331T010000
END:DAYLIGHT
BEGIN:STANDARD
TZOFFSETFROM:+0200
TZOFFSETTO:+0100
TZNAME:CET
DTSTART:20241027T010000
END:STANDARD
BEGIN:DAYLIGHT
TZOFFSETFROM:+0100
TZOFFSETTO:+0200
TZNAME:CEST
DTSTART:20250330T010000
END:DAYLIGHT
BEGIN:STANDARD
TZOFFSETFROM:+0200
TZOFFSETTO:+0100
TZNAME:CET
DTSTART:20251026T010000
END:STANDARD
END:VTIMEZONE
BEGIN:VEVENT
DTSTART;TZID=Europe/Paris:20240406T110000
DTEND;TZID=Europe/Paris:20240406T123000
DTSTAMP:20260421T221124
CREATED:20240403T193253Z
LAST-MODIFIED:20240403T193458Z
UID:596-1712401200-1712406600@www.boutiquedulivre.ch
SUMMARY:Rencontre avec Daniel Sangsue\, auteur de "Les fantômes comme les chats choisissent leurs maîtres"
DESCRIPTION:
URL:https://www.boutiquedulivre.ch/evenement/daniel-sangsue-fantomes-comme-les-chats-choisissent-leurs-maitres/
LOCATION:Boutique du livre\, Rue des Chavannes 4\, Neuchâtel\, 2000\, Suisse
CATEGORIES:Rencontre / débat
ATTACH;FMTTYPE=image/webp:https://www.boutiquedulivre.ch/wp-content/uploads/2024/04/fantomeschatDaniel.webp
END:VEVENT
END:VCALENDAR