BEGIN:VCALENDAR
VERSION:2.0
PRODID:-//La Boutique du livre de Neuchâtel - ECPv6.15.18//NONSGML v1.0//EN
CALSCALE:GREGORIAN
METHOD:PUBLISH
X-WR-CALNAME:La Boutique du livre de Neuchâtel
X-ORIGINAL-URL:https://www.boutiquedulivre.ch
X-WR-CALDESC:Évènements pour La Boutique du livre de Neuchâtel
REFRESH-INTERVAL;VALUE=DURATION:PT1H
X-Robots-Tag:noindex
X-PUBLISHED-TTL:PT1H
BEGIN:VTIMEZONE
TZID:Europe/Paris
BEGIN:DAYLIGHT
TZOFFSETFROM:+0100
TZOFFSETTO:+0200
TZNAME:CEST
DTSTART:20230326T010000
END:DAYLIGHT
BEGIN:STANDARD
TZOFFSETFROM:+0200
TZOFFSETTO:+0100
TZNAME:CET
DTSTART:20231029T010000
END:STANDARD
BEGIN:DAYLIGHT
TZOFFSETFROM:+0100
TZOFFSETTO:+0200
TZNAME:CEST
DTSTART:20240331T010000
END:DAYLIGHT
BEGIN:STANDARD
TZOFFSETFROM:+0200
TZOFFSETTO:+0100
TZNAME:CET
DTSTART:20241027T010000
END:STANDARD
BEGIN:DAYLIGHT
TZOFFSETFROM:+0100
TZOFFSETTO:+0200
TZNAME:CEST
DTSTART:20250330T010000
END:DAYLIGHT
BEGIN:STANDARD
TZOFFSETFROM:+0200
TZOFFSETTO:+0100
TZNAME:CET
DTSTART:20251026T010000
END:STANDARD
END:VTIMEZONE
BEGIN:VEVENT
DTSTART;TZID=Europe/Paris:20240507T190000
DTEND;TZID=Europe/Paris:20240507T210000
DTSTAMP:20260421T204309
CREATED:20240505T142909Z
LAST-MODIFIED:20240505T172222Z
UID:622-1715108400-1715115600@www.boutiquedulivre.ch
SUMMARY:Les polyphoniques
DESCRIPTION:Une lecture poétique de l’univers des émotions.  \n\n\n\nDes nouvelles en italien\, en allemand et en français\, traduites dans chacune des autres langues.3 voix. 5 artistes. Une collection de 6 nouvelles originales signées par Prisca Agustoni\, Gianna Olinda Cadonau et Pierre Crevoisier. Une illustratrice\, Hélia Aluai\, et une musicienne\, Laurence Crevoisier\, déclinent l’identité des textes.Des podcasts sonores accompagnent cette série multilingue. Cette collection artistique unique est éditée sous la forme de 6 origamis littéraires. \n\n\n\nLe vernissage aura lieu en présence des cinq artistes et sera marqué par la publication du premier origami\, La Lingua invisibile\, de Prisca Agustoni\, Prix suisse de littérature 2023. \n\n\n\nImage: Le Poisson volant. \n\n\n\n19h: apéro-discussions; 20h lectures; au chapeau. \n\n\n\nEn savoir plus sur les Polyphoniques.
URL:https://www.boutiquedulivre.ch/evenement/les-polyphoniques/
LOCATION:La Boutique du livre\, 4 rue des Chavannes\, Neuchâtel
CATEGORIES:Lecture
ATTACH;FMTTYPE=image/jpeg:https://www.boutiquedulivre.ch/wp-content/uploads/2024/05/7mai.jpeg
END:VEVENT
BEGIN:VEVENT
DTSTART;TZID=Europe/Paris:20240511T113000
DTEND;TZID=Europe/Paris:20240511T130000
DTSTAMP:20260421T204309
CREATED:20240505T150239Z
LAST-MODIFIED:20240505T172032Z
UID:633-1715427000-1715432400@www.boutiquedulivre.ch
SUMMARY:Cisco Herzhaft: Un voyage au cœur du blues
DESCRIPTION:La Boutique du Livre vous convie pour un concert de Cisco Herzhaft dans une ambiance intime et conviviale le 11 mai dès 11h30. \n\n\n\nCet artiste atypique français est présent sur de nombreuses scènes blues aux quatre coins de la planète. Il est indéniablement l’un des derniers authentiques « blues-pickers » acoustiques et probablement le premier français à avoir enregistré un pur blues (Bettina\, dans l’album Sweet Hot des Haricots Rouges\, 1969) à la guitare. Chanteur et guitariste « fingerstyle » et dobro\, entre John Lee Hooker (qu’il a accompagné à l’aube des 70’s) et Doc Watson\, il emmène le public dans son voyage musical ponctué d’anecdotes et d’hommages à ceux qui lui ont appris cette musique\, qui lui ont inspiré ses compositions\, ses cinquante ans de guitare. De plus\, il a été intronisé au Blues Of Fame français au même titre que Paul Personne\, Bill Deraime\, etc. \n\n\n\nAu chapeau. \n\n\n\nEn savoir plus sur Cisco Herzhaft.
URL:https://www.boutiquedulivre.ch/evenement/cisco-herzhaft/
LOCATION:La Boutique du livre\, Rue des Chavannes 4\, Neuchâtel\, 2000
ATTACH;FMTTYPE=image/png:https://www.boutiquedulivre.ch/wp-content/uploads/2024/05/11mai.png
END:VEVENT
BEGIN:VEVENT
DTSTART;TZID=Europe/Paris:20240519T110000
DTEND;TZID=Europe/Paris:20240519T130000
DTSTAMP:20260421T204309
CREATED:20240505T161947Z
LAST-MODIFIED:20240505T172424Z
UID:637-1716116400-1716123600@www.boutiquedulivre.ch
SUMMARY:Concert-brunch avec Carolina Katún
DESCRIPTION:Accompagnée de son guitariste\, la Neuchâteloise Carolina Katún nous interprètera une sélection de compositions principalement en espagnol ainsi que quelques reprises de morceaux latino-américains. \n\n\n\n« Des épices\, la chanteuse mexicano-suisse en possède d’ailleurs plein les poches. Douces-amères ou aux saveurs lentes et sucrées\, elles exaltent l’œuvre d’une artiste au carrefour du jazz et des musiques baroques\, du folk et de la pop\, de la chanson française et de l’électro. \n\n\n\nRentrer dans une case\, c’est clair\, Carolina s’y refuse net. Si sa voix profonde\, voilée de mille peines et voyages évoque Lhasa ou Lila Downs\, la Neuchâteloise découverte en équilibre entre Paris\, Montreux\, Oslo ou Mexico bâtit une œuvre colorée\, hybride\, où s’invitent le lyrisme de Mercedes Sosa\, le minimalisme de Simón Díaz et les audaces de Sidsel Endresen. »Texte: David BRUN-LAMBERT / Photo: Mehdi BENKLERAu chapeau. Inscription souhaitée à evenements@boutiquedulivre.ch jusqu’au vendredi 17 mai.En savoir plus sur Carolina Katún.
URL:https://www.boutiquedulivre.ch/evenement/carolina-katun/
LOCATION:La Boutique du livre\, 4 rue des Chavannes\, Neuchâtel
ATTACH;FMTTYPE=image/jpeg:https://www.boutiquedulivre.ch/wp-content/uploads/2024/05/19mai.jpeg
END:VEVENT
BEGIN:VEVENT
DTSTART;TZID=Europe/Paris:20240522T120000
DTEND;TZID=Europe/Paris:20240522T140000
DTSTAMP:20260421T204309
CREATED:20240505T165310Z
LAST-MODIFIED:20240505T171459Z
UID:646-1716379200-1716386400@www.boutiquedulivre.ch
SUMMARY:Journée suisse de la lecture à voix haute
DESCRIPTION:Quelques membres de la Boutique du Livre proposeront des lectures à plusieurs voix et en solo\, en pleine rue et/ou dans la grotte livresque même. \n\n\n\nL’envie de partager avec les oreilles passantes\, qu’elles soient furtives ou attentives\, des textes qui nous ont touché a trouvé de quoi se réaliser\, une fois de plus. Cette fois\, ce sera en chœur avec des milliers d’autres voix en Suisse à l’occasion de la Journée suisse de la Lecture à voix haute. \n\n\n\nPhoto: José Santiago \n\n\n\nEn savoir plus sur la Journée suisse de la lecture à voix haute.
URL:https://www.boutiquedulivre.ch/evenement/journee-suisse-de-la-lecture-a-voix-haute/
LOCATION:La Boutique du livre\, 4 rue des Chavannes\, Neuchâtel
CATEGORIES:Lecture
ATTACH;FMTTYPE=image/jpeg:https://www.boutiquedulivre.ch/wp-content/uploads/2024/05/22mai.jpeg
END:VEVENT
BEGIN:VEVENT
DTSTART;TZID=Europe/Paris:20240531T180000
DTEND;TZID=Europe/Paris:20240531T210000
DTSTAMP:20260421T204309
CREATED:20240505T170333Z
LAST-MODIFIED:20240505T170335Z
UID:650-1717178400-1717189200@www.boutiquedulivre.ch
SUMMARY:De suie et de braise: une soirée avec la Chose Carrée
DESCRIPTION:Brûlant. Noir. Rougeoyant.  \n\n\n\nPour son premier vernissage à la Boutique du Livre\, les auteurices de La Chose Carrée vous plongeront dans une littérature de suie\, poussiéreuse\, dense\, révoltée.  \n\n\n\nAu programme: lectures\, échanges\, trucs à grignoter\, kéfir et vin nat’. La thématique qui a occupé les auteurices sera dévoilée ce soir-là… mais une mine d’indices se cache déjà ici. \n\n\n\nEn savoir plus sur la Chose Carrée.
URL:https://www.boutiquedulivre.ch/evenement/de-suie-et-de-braise-une-soiree-avec-la-chose-carree/
LOCATION:La Boutique du livre\, 4 rue des Chavannes\, Neuchâtel
ATTACH;FMTTYPE=image/png:https://www.boutiquedulivre.ch/wp-content/uploads/2024/05/31mai.png
END:VEVENT
END:VCALENDAR