BEGIN:VCALENDAR
VERSION:2.0
PRODID:-//La Boutique du livre de Neuchâtel - ECPv6.15.18//NONSGML v1.0//EN
CALSCALE:GREGORIAN
METHOD:PUBLISH
X-WR-CALNAME:La Boutique du livre de Neuchâtel
X-ORIGINAL-URL:https://www.boutiquedulivre.ch
X-WR-CALDESC:Évènements pour La Boutique du livre de Neuchâtel
REFRESH-INTERVAL;VALUE=DURATION:PT1H
X-Robots-Tag:noindex
X-PUBLISHED-TTL:PT1H
BEGIN:VTIMEZONE
TZID:Europe/Paris
BEGIN:DAYLIGHT
TZOFFSETFROM:+0100
TZOFFSETTO:+0200
TZNAME:CEST
DTSTART:20230326T010000
END:DAYLIGHT
BEGIN:STANDARD
TZOFFSETFROM:+0200
TZOFFSETTO:+0100
TZNAME:CET
DTSTART:20231029T010000
END:STANDARD
BEGIN:DAYLIGHT
TZOFFSETFROM:+0100
TZOFFSETTO:+0200
TZNAME:CEST
DTSTART:20240331T010000
END:DAYLIGHT
BEGIN:STANDARD
TZOFFSETFROM:+0200
TZOFFSETTO:+0100
TZNAME:CET
DTSTART:20241027T010000
END:STANDARD
BEGIN:DAYLIGHT
TZOFFSETFROM:+0100
TZOFFSETTO:+0200
TZNAME:CEST
DTSTART:20250330T010000
END:DAYLIGHT
BEGIN:STANDARD
TZOFFSETFROM:+0200
TZOFFSETTO:+0100
TZNAME:CET
DTSTART:20251026T010000
END:STANDARD
END:VTIMEZONE
BEGIN:VEVENT
DTSTART;TZID=Europe/Paris:20240610T183000
DTEND;TZID=Europe/Paris:20240610T200000
DTSTAMP:20260421T192223
CREATED:20240505T174859Z
LAST-MODIFIED:20240505T174900Z
UID:661-1718044200-1718049600@www.boutiquedulivre.ch
SUMMARY:Les arbres quand ils tombent
DESCRIPTION:Peut-on raconter que sur le chemin de l’école on a croisé des enfants décharnés\, affamés\, malades et qu’on s’y est habitué ? Qu’on a vécu dans une grande maison blanche avec des domestiques et giflé son amie noire ? Si oui\, comment en parler ?En quête de son enfance vécue au Rwanda et à Madagascar – une période des plus heureuses de son existence –\, Fanny Wobmann tente de se la remémorer entre passé fuyant/flou et frustration des souvenirs. Doucement\, une histoire se dessine\, mais comment se l’approprier ?Des sapins du Jura neuchâtelois aux baobabs malgaches\, s’élabore un récit poétique et politique qui décortique les rapports de pouvoirs et revisite l’enfance d’une manière atypique\, tandis que le présent se vit comme une forêt en mouvement.Autrice et comédienne\, Fanny Wobmann vit à Neuchâtel. Son travail explore les thématiques du corps\, de l’intimité\, des relations humaines à réinventer. Les arbres quand ils tombent est son troisième livre publié.En savoir sur Fanny Wobmann.
URL:https://www.boutiquedulivre.ch/evenement/les-arbres-quand-ils-tombent/
LOCATION:La Boutique du livre\, 4 rue des Chavannes\, Neuchâtel
ATTACH;FMTTYPE=image/jpeg:https://www.boutiquedulivre.ch/wp-content/uploads/2024/05/10juin.jpeg
END:VEVENT
END:VCALENDAR