BEGIN:VCALENDAR
VERSION:2.0
PRODID:-//La Boutique du livre de Neuchâtel - ECPv6.15.18//NONSGML v1.0//EN
CALSCALE:GREGORIAN
METHOD:PUBLISH
X-WR-CALNAME:La Boutique du livre de Neuchâtel
X-ORIGINAL-URL:https://www.boutiquedulivre.ch
X-WR-CALDESC:Évènements pour La Boutique du livre de Neuchâtel
REFRESH-INTERVAL;VALUE=DURATION:PT1H
X-Robots-Tag:noindex
X-PUBLISHED-TTL:PT1H
BEGIN:VTIMEZONE
TZID:Europe/Paris
BEGIN:DAYLIGHT
TZOFFSETFROM:+0100
TZOFFSETTO:+0200
TZNAME:CEST
DTSTART:20230326T010000
END:DAYLIGHT
BEGIN:STANDARD
TZOFFSETFROM:+0200
TZOFFSETTO:+0100
TZNAME:CET
DTSTART:20231029T010000
END:STANDARD
BEGIN:DAYLIGHT
TZOFFSETFROM:+0100
TZOFFSETTO:+0200
TZNAME:CEST
DTSTART:20240331T010000
END:DAYLIGHT
BEGIN:STANDARD
TZOFFSETFROM:+0200
TZOFFSETTO:+0100
TZNAME:CET
DTSTART:20241027T010000
END:STANDARD
BEGIN:DAYLIGHT
TZOFFSETFROM:+0100
TZOFFSETTO:+0200
TZNAME:CEST
DTSTART:20250330T010000
END:DAYLIGHT
BEGIN:STANDARD
TZOFFSETFROM:+0200
TZOFFSETTO:+0100
TZNAME:CET
DTSTART:20251026T010000
END:STANDARD
END:VTIMEZONE
BEGIN:VEVENT
DTSTART;TZID=Europe/Paris:20240822T180000
DTEND;TZID=Europe/Paris:20240822T193000
DTSTAMP:20260421T165354
CREATED:20240820T070529Z
LAST-MODIFIED:20240820T203718Z
UID:680-1724349600-1724355000@www.boutiquedulivre.ch
SUMMARY:La décroissance chemins faisant
DESCRIPTION:La Boutique aura le plaisir d’accueillir quelques membres de la rédaction de Moins! \, à l’occasion de la parution\, aux Editions Antipodes\, d’une anthologie d’articles retraçant les dix ans de ce journal bimestriel. \n\n\n\nMoins! est un journal bimestriel romand d’écologie politique qui diffuse depuis 2012 les idées de la décroissance en Suisse romande et au-delà. Mené par une rédaction militante et bénévole\, ce journal se veut une voix de contestation\, de résistance et propose des analyses et réflexions pour comprendre le monde d’aujourd’hui\, tout en proposant des pistes pour construire d’autres façons de vivre ensemble\, plus égalitaires\, solidaires et soutenables. \n\n\n\n \n\n\n\n\n\n\n\n \n\n\n\nDescription de l’ouvrage:Quiconque promène aujourd’hui ses yeux dans les journaux\, les rues ou les supermarchés l’aura aisément remarqué: l’écologie est omniprésente. Produit «bio»\, initiative «verte»\, projet «durable»\, «éco-gestes» et accessoires «zéro carbone»… On nous sensibilise\, on nous conscientise\, on nous responsabilise. On nous réprime aussi\, et on nous fait culpabiliser. Alors on tente d’agir\, parfois. Pour le climat\, contre la pollution\, pour la biodiversité. Et pourtant\, l’impact écologique – celui de la Suisse en particulier – ne cesse d’augmenter. Dans un monde toujours plus mobile\, connecté\, dépendant\, cela est-il vraiment surprenant?La crise n’est pas uniquement écologique; elle est aussi – surtout – sociale et économique\, politique et démocratique\, philosophique et anthropologique. Il paraît de plus en plus évident que les catastrophes qui s’enchaînent à différents niveaux sont liées et qu’elles plongent précisément leurs racines dans nos sociétés modernes du toujours-plus.Cet ouvrage\, en forme de petit manuel d’écologie politique\, entend dénoncer impasses et fausses pistes\, tout en présentant de nombreuses voies inspirées par les idées de la décroissance. Construit à partir d’articles de fond et de propositions concrètes publiés dans le journal Moins! depuis une décennie\, il dessine d’autres chemins pour un futur vivable et convivial.
URL:https://www.boutiquedulivre.ch/evenement/presentation-du-petit-manuel-decologie-politique-publie-par-moins/
LOCATION:Boutique du Livre\, Rue des Chavannes 4\, Neuchâtel\, 2000\, Suisse
ATTACH;FMTTYPE=image/png:https://www.boutiquedulivre.ch/wp-content/uploads/2024/08/MoinsAntipodesCarre.png
END:VEVENT
BEGIN:VEVENT
DTSTART;TZID=Europe/Paris:20240823T190000
DTEND;TZID=Europe/Paris:20240823T203000
DTSTAMP:20260421T165354
CREATED:20240820T072053Z
LAST-MODIFIED:20240820T072055Z
UID:686-1724439600-1724445000@www.boutiquedulivre.ch
SUMMARY:À Diane\, la déesse gardienne des cycles de la vie
DESCRIPTION:Dorothée Thébert\, en résidence d’écriture au Musée d’Histoire naturelle dans le cadre de la série de capsules sonores « Podcast dioramas »\, imaginée et portée par le büro UmLaut (Jonas Bühler et Manon Krüttli)\, nous présentera\, en compagnie du cinéaste Filippo Filliger\, son projet À Diane: \n\n\n\nEn été 2021\, Filippo Filliger\, réalise le film Diane ou le début du monde fini\, qui se déroule sur les ruines du sanctuaire de Diane au bord du lac de Nemi en Italie. Il évoque notre monde en crise et l’équilibre perdu entre les êtres humains et la nature. Pour raconter cette histoire\, Filippo demande à Dorothée Thébert d’écrire un texte\, et filme son travail de recherche et d’écriture. Dans cet essai cinématographique\, ils tentent de comprendre ensemble si l’amour a encore un sens dans un monde fini. L’invitation donne ainsi naissance au texte de Dorothée Les Dianes\, qui prête la voix à différentes représentations de Diane\, la déesse gardienne des cycles de la vie. En naviguant à travers les époques\, l’autrice se questionne sur l’évolution de ces figures\, qui racontent aussi une histoire du regard posé sur le corps des femmes. \n\n\n\nLa performance À Diane réunit les deux créations en un même évènement. La projection du film de Filippo Filliger précède une lecture du texte par Dorothée Thébert\, accompagnée d’une composition musicale d’Olga Kokcharova. \n\n\n\n\n\n\n\n \n\n\n\nBiographies \n\n\n\nDorothée Thébert travaille comme photographe pour la scène et conçoit des projets artistiques dans le domaine du théâtre\, en collaboration avec Filippo Filliger. Depuis la publication de son livre Thérèse et La Chèvre\, elle fait partie du comité de lecture d’art&fiction éditions et participe au suivi éditorial de la nouvelle collection Portrait. \n\n\n\nAprès avoir grandi entre Locarno et Genève\, Filippo Filliger s’installe définitivement à Genève en 1999. À la suite de ses études\, il réalise plusieurs courts-métrages qui sont montrés dans des festivals internationaux\, il met en scène des pièces de théâtre avec Dorothée Thébert et expose dans des espaces d’art contemporain.
URL:https://www.boutiquedulivre.ch/evenement/a-diane-la-deesse-gardienne-des-cycles-de-la-vie/
LOCATION:Boutique du Livre\, Rue des Chavannes 4\, Neuchâtel\, 2000\, Suisse
ATTACH;FMTTYPE=image/png:https://www.boutiquedulivre.ch/wp-content/uploads/2024/08/Diane.png
END:VEVENT
BEGIN:VEVENT
DTSTART;TZID=Europe/Paris:20240824T110000
DTEND;TZID=Europe/Paris:20240824T130000
DTSTAMP:20260421T165354
CREATED:20240820T073244Z
LAST-MODIFIED:20241003T194622Z
UID:691-1724497200-1724504400@www.boutiquedulivre.ch
SUMMARY:Vernissage de "Si les forêts nous quittent"
DESCRIPTION:Rejoignez-nous le samedi 24 août de 11h à 13h pour le vernissage de Si les forêts nous quittent édité par Hélice Hélas. Francesco Micieli\, l’auteur\, et Christian Viredaz\, son traducteur\, seront présents pour échanger avec vous autour de cet ouvrage. Cet événement se déroule dans le cadre de la journée découverte du quartier de la Commune libre de Neuchâtel\, une occasion parfaite pour explorer et soutenir les artisan·e·s et commerçant·e·s local·e·s. Venez nombreux·ses !  \n\n\n\n\n\n\n\nPetit roman polyphonique donnant à entendre\, de manière poétique\, inventive et intrigante\, différentes voix s’activant pour penser et agir les urgences climatiques. Une construction narrative singulière et habile\, émaillée de citations allant de Lou Reed à Marina Tsvetaïeva en passant par Walter Benjamin. \n\n\n\n \n\n\n\nLors d’un été de canicule\, des jeunes désœuvrés se retrouvent autour de l’arbre ombrageant de la terrasse d’un café. L’angoisse climatique\, les extinctions de masse\, l’inaction des politiques\, les migrations forcées\, toutes ces préoccupations minent leurs perspectives d’avenir. Avec l’arrivée mystérieuse de Ginkgo dans le groupe\, prophétesse malgré elle d’un sursaut révolutionnaire\, celui-ci se resserre et se solidarise autour d’un idéal de communion avec le Vivant\, d’amour et de rébellion. Pourtant\, juste après une action militante­­\, Ginkgo ne donne plus signe de vie\, laissant le groupe désemparé ; sa disparition subite préfigurant celle des biotopes\, de l’Humanité\, ainsi que des idéaux et des espoirs d’alternatives. \n\n\n\n \n\n\n\nDans ce roman polyphonique\, Francesco Micieli donne la parole aux activistes du Climat\, à la jeunesse. Sous la forme de dépositions de police\, chacun raconte sa version des faits\, la formation du groupe\, ce qui les a animé\, ainsi que leur fascination pour Ginkgo\, tout autant que le désarroi qui s’est suivi avec la dissolution du collectif. Rédigé à la suite d’ateliers d’écriture réunissant des jeunes réfugié·es et étudiant·es\, Si les forêts nous quittent est une plongée poétique dans l’urgence écologique. Un roman chargé d’une aura et d’une présence\, interrogeant avec subtilité tant l’engagement militant que la solastagie (nb. la détresse émotionnelle causée par la destruction des biotopes) dans ses dimensions les plus sous-cutanées\, sensibles\, voire mystiques.  \n\n\n\nLe roman de la génération climatique. 
URL:https://www.boutiquedulivre.ch/evenement/vernissage-de-si-les-forets-nous-quittent/
LOCATION:Boutique du Livre\, Rue des Chavannes 4\, Neuchâtel\, 2000\, Suisse
CATEGORIES:Vernissage
ATTACH;FMTTYPE=image/png:https://www.boutiquedulivre.ch/wp-content/uploads/2024/08/ForetsHeliceHelas.png
END:VEVENT
END:VCALENDAR