BEGIN:VCALENDAR
VERSION:2.0
PRODID:-//La Boutique du livre de Neuchâtel - ECPv6.15.18//NONSGML v1.0//EN
CALSCALE:GREGORIAN
METHOD:PUBLISH
X-ORIGINAL-URL:https://www.boutiquedulivre.ch
X-WR-CALDESC:Évènements pour La Boutique du livre de Neuchâtel
REFRESH-INTERVAL;VALUE=DURATION:PT1H
X-Robots-Tag:noindex
X-PUBLISHED-TTL:PT1H
BEGIN:VTIMEZONE
TZID:Europe/Paris
BEGIN:DAYLIGHT
TZOFFSETFROM:+0100
TZOFFSETTO:+0200
TZNAME:CEST
DTSTART:20230326T010000
END:DAYLIGHT
BEGIN:STANDARD
TZOFFSETFROM:+0200
TZOFFSETTO:+0100
TZNAME:CET
DTSTART:20231029T010000
END:STANDARD
BEGIN:DAYLIGHT
TZOFFSETFROM:+0100
TZOFFSETTO:+0200
TZNAME:CEST
DTSTART:20240331T010000
END:DAYLIGHT
BEGIN:STANDARD
TZOFFSETFROM:+0200
TZOFFSETTO:+0100
TZNAME:CET
DTSTART:20241027T010000
END:STANDARD
BEGIN:DAYLIGHT
TZOFFSETFROM:+0100
TZOFFSETTO:+0200
TZNAME:CEST
DTSTART:20250330T010000
END:DAYLIGHT
BEGIN:STANDARD
TZOFFSETFROM:+0200
TZOFFSETTO:+0100
TZNAME:CET
DTSTART:20251026T010000
END:STANDARD
END:VTIMEZONE
BEGIN:VEVENT
DTSTART;TZID=Europe/Paris:20241026T103000
DTEND;TZID=Europe/Paris:20241026T130000
DTSTAMP:20260421T140010
CREATED:20241003T194531Z
LAST-MODIFIED:20241021T215544Z
UID:756-1729938600-1729947600@www.boutiquedulivre.ch
SUMMARY:Vernissage de "Journal d'alpage"
DESCRIPTION:Agathe Borin viendra nous présenter sa BD « Journal d’alpage » publiée aux éditions Antipodes. \n\n\n\n\n\n\n\nUne jeune femme s’occupe d’un alpage pendant une saison. La BD relate ses questionnements\, ses doutes\, sa place en tant que femme plutôt citadine dans ce milieu. On voit comment son expérience à la montagne la transforme. On apprend aussi des choses sur la vie à l’alpage en tant que telle et l’histoire questionne le rapport à l’environnement et à la nature. \n\n\n\nLe vernissage sera comme toujours suivi d’un moment convivial avec grignotage arrosé.
URL:https://www.boutiquedulivre.ch/evenement/vernissage-de-journal-dalpage-aux-editions-antipodes/
LOCATION:Boutique du Livre\, Rue des Chavannes 4\, Neuchâtel\, 2000\, Suisse
CATEGORIES:Vernissage
ATTACH;FMTTYPE=image/png:https://www.boutiquedulivre.ch/wp-content/uploads/2024/10/Capture-decran-2024-10-03-a-21.44.31.png
END:VEVENT
END:VCALENDAR