BEGIN:VCALENDAR
VERSION:2.0
PRODID:-//La Boutique du livre de Neuchâtel - ECPv6.15.18//NONSGML v1.0//EN
CALSCALE:GREGORIAN
METHOD:PUBLISH
X-WR-CALNAME:La Boutique du livre de Neuchâtel
X-ORIGINAL-URL:https://www.boutiquedulivre.ch
X-WR-CALDESC:Évènements pour La Boutique du livre de Neuchâtel
REFRESH-INTERVAL;VALUE=DURATION:PT1H
X-Robots-Tag:noindex
X-PUBLISHED-TTL:PT1H
BEGIN:VTIMEZONE
TZID:Europe/Paris
BEGIN:DAYLIGHT
TZOFFSETFROM:+0100
TZOFFSETTO:+0200
TZNAME:CEST
DTSTART:20240331T010000
END:DAYLIGHT
BEGIN:STANDARD
TZOFFSETFROM:+0200
TZOFFSETTO:+0100
TZNAME:CET
DTSTART:20241027T010000
END:STANDARD
BEGIN:DAYLIGHT
TZOFFSETFROM:+0100
TZOFFSETTO:+0200
TZNAME:CEST
DTSTART:20250330T010000
END:DAYLIGHT
BEGIN:STANDARD
TZOFFSETFROM:+0200
TZOFFSETTO:+0100
TZNAME:CET
DTSTART:20251026T010000
END:STANDARD
BEGIN:DAYLIGHT
TZOFFSETFROM:+0100
TZOFFSETTO:+0200
TZNAME:CEST
DTSTART:20260329T010000
END:DAYLIGHT
BEGIN:STANDARD
TZOFFSETFROM:+0200
TZOFFSETTO:+0100
TZNAME:CET
DTSTART:20261025T010000
END:STANDARD
END:VTIMEZONE
BEGIN:VEVENT
DTSTART;TZID=Europe/Paris:20250829T180000
DTEND;TZID=Europe/Paris:20250829T200000
DTSTAMP:20260420T113543
CREATED:20250825T115408Z
LAST-MODIFIED:20250825T121409Z
UID:1021-1756490400-1756497600@www.boutiquedulivre.ch
SUMMARY:Vernissage de "J'aurais voulu être douze serpents" avec Louis Achille
DESCRIPTION:Et si la mémoire n’était qu’un archipel mouvant\, traversé de silences\, de visions\, de blessures ? Dans une langue libre et sensorielle\, Louis Achille explore les fractures de l’identité et les mystères de l’enfance à travers le regard d’un narrateur en quête de lui-même. \n\n\n\nPremier roman d’une rare intensité\, “ J’aurais voulu être douze serpents” (Editions Cousu mouche)\, tisse une cartographie intime entre errance intérieure et mémoire collective. \n\n\n\n\n\n\n\nDiscussion\, lecture et dédicace
URL:https://www.boutiquedulivre.ch/evenement/douze-serpents-louis-achille/
LOCATION:La Boutique du livre\, 4 rue des Chavannes\, Neuchâtel
ATTACH;FMTTYPE=image/png:https://www.boutiquedulivre.ch/wp-content/uploads/2025/08/achilleaffiche.png
END:VEVENT
END:VCALENDAR