BEGIN:VCALENDAR
VERSION:2.0
PRODID:-//La Boutique du livre de Neuchâtel - ECPv6.15.18//NONSGML v1.0//EN
CALSCALE:GREGORIAN
METHOD:PUBLISH
X-WR-CALNAME:La Boutique du livre de Neuchâtel
X-ORIGINAL-URL:https://www.boutiquedulivre.ch
X-WR-CALDESC:Évènements pour La Boutique du livre de Neuchâtel
REFRESH-INTERVAL;VALUE=DURATION:PT1H
X-Robots-Tag:noindex
X-PUBLISHED-TTL:PT1H
BEGIN:VTIMEZONE
TZID:Europe/Paris
BEGIN:DAYLIGHT
TZOFFSETFROM:+0100
TZOFFSETTO:+0200
TZNAME:CEST
DTSTART:20240331T010000
END:DAYLIGHT
BEGIN:STANDARD
TZOFFSETFROM:+0200
TZOFFSETTO:+0100
TZNAME:CET
DTSTART:20241027T010000
END:STANDARD
BEGIN:DAYLIGHT
TZOFFSETFROM:+0100
TZOFFSETTO:+0200
TZNAME:CEST
DTSTART:20250330T010000
END:DAYLIGHT
BEGIN:STANDARD
TZOFFSETFROM:+0200
TZOFFSETTO:+0100
TZNAME:CET
DTSTART:20251026T010000
END:STANDARD
BEGIN:DAYLIGHT
TZOFFSETFROM:+0100
TZOFFSETTO:+0200
TZNAME:CEST
DTSTART:20260329T010000
END:DAYLIGHT
BEGIN:STANDARD
TZOFFSETFROM:+0200
TZOFFSETTO:+0100
TZNAME:CET
DTSTART:20261025T010000
END:STANDARD
END:VTIMEZONE
BEGIN:VEVENT
DTSTART;TZID=Europe/Paris:20250920T183000
DTEND;TZID=Europe/Paris:20250920T203000
DTSTAMP:20260420T125332
CREATED:20250601T200317Z
LAST-MODIFIED:20250906T091148Z
UID:992-1758393000-1758400200@www.boutiquedulivre.ch
SUMMARY:Lecture: Palestine en éclats
DESCRIPTION:Accompagné à l’oud par Hekmat Hamsi\, Just Thierry vous lit des vers de l’anthologie « Palestine en éclats » parue aux Editions Al Manar\, qui réunit pour la première fois les voix de poétesses palestiniennes contemporaines.  \n\n\n\n\n\n\n\nCes autrices viennent de différentes régions de la Palestine historique – Territoires de 1948\, Gaza\, Cisjordanie – ainsi que de la diaspora issue du tragique exode palestinien de 1948\, la Nakba. Elles représentent un courant littéraire novateur et audacieux. \n\n\n\n\n\n\n\nÀ travers leurs poèmes\, ces femmes s’élèvent contre les interdits et tabous d’une société patriarcale et conservatrice. Elles utilisent la poésie comme un espace de liberté et de défi. Leur écriture\, intimement liée au corps féminin\, apporte un regard unique et différent de celui des hommes. Elles explorent des thèmes comme l’oppression personnelle et politique\, notamment la violence de l’occupation israélienne qui les prive de leur terre\, de leur mémoire et du contrôle sur leur propre corps. \n\n\n\n\n\n\n\nPour ces poétesses\, écrire est un acte charnel et viscéral. Elles cherchent à faire entendre leurs voix de femmes\, à inscrire leur corps et leur vécu intime au cœur de leurs poèmes. Cette poésie corporelle se veut un cri de liberté face à la double oppression de l’occupant israélien et du patriarcat. Prendre la plume représente déjà un acte de résistance et d’émancipation. \n\n\n\n\n\n\n\nHekmat Hamsi est un oudiste d’origine syrienne. Just Thierry se produit régulièrement pour présenter son spectacle Instrumots.
URL:https://www.boutiquedulivre.ch/evenement/palestine-en-eclats/
LOCATION:La Boutique du livre\, 4 rue des Chavannes\, Neuchâtel
CATEGORIES:Lecture
ATTACH;FMTTYPE=image/png:https://www.boutiquedulivre.ch/wp-content/uploads/2025/06/AlManar_palestine.png
END:VEVENT
END:VCALENDAR