BEGIN:VCALENDAR
VERSION:2.0
PRODID:-//La Boutique du livre de Neuchâtel - ECPv6.15.18//NONSGML v1.0//EN
CALSCALE:GREGORIAN
METHOD:PUBLISH
X-WR-CALNAME:La Boutique du livre de Neuchâtel
X-ORIGINAL-URL:https://www.boutiquedulivre.ch
X-WR-CALDESC:Évènements pour La Boutique du livre de Neuchâtel
REFRESH-INTERVAL;VALUE=DURATION:PT1H
X-Robots-Tag:noindex
X-PUBLISHED-TTL:PT1H
BEGIN:VTIMEZONE
TZID:Europe/Paris
BEGIN:DAYLIGHT
TZOFFSETFROM:+0100
TZOFFSETTO:+0200
TZNAME:CEST
DTSTART:20240331T010000
END:DAYLIGHT
BEGIN:STANDARD
TZOFFSETFROM:+0200
TZOFFSETTO:+0100
TZNAME:CET
DTSTART:20241027T010000
END:STANDARD
BEGIN:DAYLIGHT
TZOFFSETFROM:+0100
TZOFFSETTO:+0200
TZNAME:CEST
DTSTART:20250330T010000
END:DAYLIGHT
BEGIN:STANDARD
TZOFFSETFROM:+0200
TZOFFSETTO:+0100
TZNAME:CET
DTSTART:20251026T010000
END:STANDARD
BEGIN:DAYLIGHT
TZOFFSETFROM:+0100
TZOFFSETTO:+0200
TZNAME:CEST
DTSTART:20260329T010000
END:DAYLIGHT
BEGIN:STANDARD
TZOFFSETFROM:+0200
TZOFFSETTO:+0100
TZNAME:CET
DTSTART:20261025T010000
END:STANDARD
END:VTIMEZONE
BEGIN:VEVENT
DTSTART;TZID=Europe/Paris:20251114T183000
DTEND;TZID=Europe/Paris:20251114T203000
DTSTAMP:20260420T152827
CREATED:20251024T140233Z
LAST-MODIFIED:20251024T140235Z
UID:1124-1763145000-1763152200@www.boutiquedulivre.ch
SUMMARY:Lecture et discussions sur les limites et l'illimité de nos rapports au monde\, avec Marie Houriet et Mary Anna Barbey
DESCRIPTION:La Boutique vous propose un moment de lecture et de discussions avec deux autrices aux univers singuliers\, qui se retrouvent par un tendre et malicieux souci du monde.  \n\n\n\n\n\n\n\nDeux œuvres de fiction donnant à penser et sentir les limites et l’illimité de nos rapports au monde\, dans nos têtes et dans nos corps. \n\n\n\n\n\n\n\n\n\n\n\n\n\n\n\n\n\n\n\n\n\n\n\n\n\n\n\n\n\n\n\nDans Dorénavant publié aux Éditions de l’Aire\, Marie Houriet retrace le succès et la déroute de PHARE\, un projet censé répondre aux enjeux du réchauffement climatique. Son roman raconte le deuil qui suit la débâcle\, face au crépuscule du monde tel que nous le connaissons. En alternant les points de vue des différents personnages\, tour à tour enthousiastes\, désabusés\, cyniques ou pleins d’espoirs\, on découvre la mosaïque d’une humanité en détresse. \n\n\n\n\n\n\n\n\n\n\n\n\n\n\n\nDans Fragments d’un amour tardif\, Mary Anna Barbey écrit l’histoire d’amour d’Elsa et Gautier\, qui ont tous les deux plus de 70 ans. Vont-ils oser la rencontre entre ces deux corps vieillissants\, au-delà des craintes\, des douleurs\, des défaillances de l’âge ? Et comment oublier le temps qui fuit devant eux ? Sont-ils fous de lier leurs destins à l’orée de « ça » ? Le désir est pourtant intact\, vif\, pulsant sous la peau ridée.
URL:https://www.boutiquedulivre.ch/evenement/lecture-et-discussions-sur-les-limites-et-lillimite-de-nos-rapports-au-monde-avec-marie-houriet-et-mary-anna-barbey/
LOCATION:La Boutique du livre\, 4 rue des Chavannes\, Neuchâtel
CATEGORIES:Lecture
ATTACH;FMTTYPE=image/png:https://www.boutiquedulivre.ch/wp-content/uploads/2025/10/Bildschirmfoto-2025-10-24-um-16.00.06.png
END:VEVENT
BEGIN:VEVENT
DTSTART;TZID=Europe/Paris:20251125T190000
DTEND;TZID=Europe/Paris:20251125T210000
DTSTAMP:20260420T152827
CREATED:20251017T092839Z
LAST-MODIFIED:20251017T093128Z
UID:1103-1764097200-1764104400@www.boutiquedulivre.ch
SUMMARY:Lecture et chant a capella : "Medea Mountains" de et par Alima Hamel
DESCRIPTION:Médéa Mountains évoque l’enfance\, l’histoire ouvrière mêlée à celle de l’immigration\, la violence faites aux enfants et aux femmes\, et la puissance du chant et de l’écriture comme réparation du monde. \n\n\n\nTombeau pour la sœur disparue\, Médéa Mountains se révèle également un puissant geste de résilience. Médéa\, petite ville de l’Atlas algérien\, a été durant la « décennie noire » (1992-2002)\, le théâtre de crimes et de massacres. La plus jeune soeur d’Alima Hamel y est assassinée. De cette tragédie\, familiale et nationale\, la chanteuse et poète tire un spectacle poétique et musical poignant.  \n\n\n\n\n\n\n\n\n\n\n\n\n\n\n\nAprès avoir présenté l’entièreté de celui-ci au festival des Jobelins\, le samedi 22 novembre 2025 à 20h30 au Pommier\, elle revient à la Boutique du livre le mardi 25 novembre pour parler de ce travail\, en lire des extraits\, chanter à capella\, échanger avec l’éditeur du livre de cette histoire où ils se sont croisés (ils se connaissent depuis 33 ans et ont grandi dans le même quartier).  \n\n\n\n\n\n\n\nPoétesse récemment publiée aux États-Unis et musicienne reconnue\, Alima Hamel crée la pièce Médéa Mountains en 2019\, désormais  éditée aux éditions de L’Œil d’Or\, (Paris/Neuchâtel).   \n\n\n\n\n\n\n\nEn présence de l’autrice et de l’éditeur (Jean-Luc d’Asciano).Blabla informel\, vins natures\, bières locales et grignotis variés.
URL:https://www.boutiquedulivre.ch/evenement/lecture-et-chant-a-capella-medea-mountains-de-et-par-alima-hamel/
LOCATION:La Boutique du livre\, 4 rue des Chavannes\, Neuchâtel
CATEGORIES:Lecture
ATTACH;FMTTYPE=image/jpeg:https://www.boutiquedulivre.ch/wp-content/uploads/2025/10/couverture-medea-mountains-alima-hamel-2.jpeg
END:VEVENT
BEGIN:VEVENT
DTSTART;TZID=Europe/Paris:20251129T120000
DTEND;TZID=Europe/Paris:20251129T133000
DTSTAMP:20260420T152827
CREATED:20251024T143404Z
LAST-MODIFIED:20251123T112726Z
UID:1133-1764417600-1764423000@www.boutiquedulivre.ch
SUMMARY:Concert de Jérémie Kisling / festival Tournez la meule
DESCRIPTION:De 12h à 12h30 puis de 13h à 13h30\, nous accueillerons l’auteur-compositeur-interprète lausannois Jérémie Kisling dans le cadre du Festival Tournez la meule. \n\n\n\n\n\n\n\nIl y a de ces chansons qui éclosent à chaque écoute. Des mélodies qui évoquent les œufs Kinder de notre enfance\, qui rappellent la frénésie d’en découvrir les surprises\, pressées dans leurs étranges coquilles jaunes. Le même jaune qu’on retrouve sur le dernier disque de Jérémie Kisling\, « Malhabiles »\, sorti… il y a dix ans ! Mazette\, ça ne nous rajeunit pas… mais ça confirme que le chanteur valdo-parisien est un génie intemporel qui\, tel un jouet Kinder\, sait provoquer la surprise quand il apparaît. Et c’est ce qu’a fait Kisling ces dernières années : composer\, arranger et surprendre ; pour lui-même ou pour d’autres (Vincent Dedienne\, Marc Aymon\, Milla)\, mais toujours avec cette même malice et ce même amusement.  \n\n\n\n\n\n\n\nParcours dans la Ville:
URL:https://www.boutiquedulivre.ch/evenement/concert-de-jeremie-kisling/
LOCATION:La Boutique du livre\, 4 rue des Chavannes\, Neuchâtel
CATEGORIES:Concert
ATTACH;FMTTYPE=image/png:https://www.boutiquedulivre.ch/wp-content/uploads/2025/11/Bildschirmfoto-2025-10-27-um-13.01.22.png
END:VEVENT
END:VCALENDAR